View In:
ArcGIS JavaScript
ArcGIS Online Map Viewer
ArcGIS Earth
Service Description: Purpose:
Primary purpose is to quantify floating and submerged aquatic vegetation in the channel.
Survey Date and Time:
Data was collected on 12/7/2021 1045-1130 PST
Imagery Acquisition:
The imagery was collected using a DJI Mavic 2 Pro UAS, operating at 250’ above ground level, along one single flight line following the center line of Old River from 1.5 miles downstream of Tracy road to River’s End. The field collection was controlled by a DJI Smart Controller running the DJI Pilot app.
Software Processing:
Images were imported into ArcGIS Pro 2.8.0 using the Ortho Mapping workspace tool, block adjusted, and an Orthomosaic was generated. No external control points were used for this project.
Adjustment summary from ArcGIS Pro:
Number of Adjusted Images 1537
Number of Tie Points 6997662
Number of Solution Points 2696151
Mean Reprojection Error / Sigma Naught (pixel) 0.55 / 0.84
Ground Resolution (m/pixel) 0.019
Adjustment Type Frame
Ground Control Points Involved in Adjustment No
This is an official DWR Image Service, which meets all appropriate requirements of the DWR Spatial Data Standards, specifically the DWR Spatial Data Standard version 3.1, dated September 11, 2019. DWR makes no warranties or guarantees — either expressed or implied — as to the completeness, accuracy, or correctness of the data. DWR neither accepts nor assumes liability arising from or for any incorrect, incomplete, or misleading subject data. This Image Service was published on 12/14/2021, by Arina Ushakova of the DWR Division of Engineering, who may be contacted at 916-902-9855, or at arina.ushakova@water.ca.gov. Comments, problems, improvements, updates, or suggestions should be forwarded to the official DWR point of contact as available and appropriate.
Name: Aerial_Photography/OldRiver_20211207
Description: Purpose:
Primary purpose is to quantify floating and submerged aquatic vegetation in the channel.
Survey Date and Time:
Data was collected on 12/7/2021 1045-1130 PST
Imagery Acquisition:
The imagery was collected using a DJI Mavic 2 Pro UAS, operating at 250’ above ground level, along one single flight line following the center line of Old River from 1.5 miles downstream of Tracy road to River’s End. The field collection was controlled by a DJI Smart Controller running the DJI Pilot app.
Software Processing:
Images were imported into ArcGIS Pro 2.8.0 using the Ortho Mapping workspace tool, block adjusted, and an Orthomosaic was generated. No external control points were used for this project.
Adjustment summary from ArcGIS Pro:
Number of Adjusted Images 1537
Number of Tie Points 6997662
Number of Solution Points 2696151
Mean Reprojection Error / Sigma Naught (pixel) 0.55 / 0.84
Ground Resolution (m/pixel) 0.019
Adjustment Type Frame
Ground Control Points Involved in Adjustment No
This is an official DWR Image Service, which meets all appropriate requirements of the DWR Spatial Data Standards, specifically the DWR Spatial Data Standard version 3.1, dated September 11, 2019. DWR makes no warranties or guarantees — either expressed or implied — as to the completeness, accuracy, or correctness of the data. DWR neither accepts nor assumes liability arising from or for any incorrect, incomplete, or misleading subject data. This Image Service was published on 12/14/2021, by Arina Ushakova of the DWR Division of Engineering, who may be contacted at 916-902-9855, or at arina.ushakova@water.ca.gov. Comments, problems, improvements, updates, or suggestions should be forwarded to the official DWR point of contact as available and appropriate.
Single Fused Map Cache: false
Extent:
XMin: 627017.4346891772
YMin: 4182558.3291194118
XMax: 634895.3620058612
YMax: 4186557.2432977566
Spatial Reference: 32610
(32610)
LatestVCSWkid(0)
Initial Extent:
XMin: 627017.4346891772
YMin: 4182558.3291194118
XMax: 634895.3620058612
YMax: 4186557.2432977566
Spatial Reference: 32610
(32610)
LatestVCSWkid(0)
Full Extent:
XMin: 627017.4346891772
YMin: 4182558.3291194118
XMax: 634895.3620058612
YMax: 4186557.2432977566
Spatial Reference: 32610
(32610)
LatestVCSWkid(0)
Pixel Size X: 0.011982914251987348
Pixel Size Y: 0.011982914251987867
Band Count: 3
Pixel Type: U8
RasterFunction Infos: {"rasterFunctionInfos": [{
"name": "None",
"description": "",
"help": ""
}]}
Mensuration Capabilities: Basic
Inspection Capabilities:
Has Histograms: true
Has Colormap: false
Has Multi Dimensions : false
Rendering Rule:
Min Scale: 0
Max Scale: 0
Copyright Text: Michael Baldwin, P.E., California Department of Water Resources, NCRO
Service Data Type: esriImageServiceDataTypeRGB
Min Values: 0, 0, 0
Max Values: 255, 255, 255
Mean Values: 97.74992001838643, 105.31542947013428, 91.23728000204561
Standard Deviation Values: 31.862552254281326, 29.00759368318909, 26.918599406588736
Object ID Field:
Fields:
None
Default Mosaic Method: Center
Allowed Mosaic Methods:
SortField:
SortValue: null
Mosaic Operator: First
Default Compression Quality: 75
Default Resampling Method: Bilinear
Max Record Count: null
Max Image Height: 4100
Max Image Width: 15000
Max Download Image Count: null
Max Mosaic Image Count: null
Allow Raster Function: true
Allow Copy: true
Allow Analysis: true
Allow Compute TiePoints: false
Supports Statistics: false
Supports Advanced Queries: false
Use StandardizedQueries: true
Raster Type Infos:
Name: Raster Dataset
Description: Supports all ArcGIS Raster Datasets
Help:
Has Raster Attribute Table: false
Edit Fields Info: null
Ownership Based AccessControl For Rasters: null
Child Resources:
Info
Histograms
Statistics
Key Properties
Legend
Raster Function Infos
Supported Operations:
Export Image
Identify
Measure
Compute Histograms
Compute Statistics Histograms
Get Samples
Compute Class Statistics
Query Boundary
Compute Pixel Location
Compute Angles
Validate
Project