View In:
ArcGIS JavaScript
ArcGIS Online Map Viewer
ArcGIS Earth
Service Description: Rio Vista Image Mosaic DFM, Date: 02/11/2014 Imagery Aquired by American Aerial Surveys Inc.under contract with the California Dept. of Water Resources.Cam Type; Zeiss Top 15, 141307Lens: 141329Focal Length: 153 mmPhoto Scale: 1:3000
DWR makes no warranties or guarantees — either expressed or implied — as to the completeness, accuracy, or correctness of the data. DWR neither accepts nor assumes liability arising from or for any incorrect, incomplete, or misleading subject data. This is an official DWR Image Service, published on 10/09/2017 by Greg Twist of the California Dept. of Water Resources / Geospatial Data Support Section, who may be contacted at gtwist@water.ca.gov or 916-653-2700
Name: Aerial_Photography/RioVista_DFM_Site
Description: Rio Vista Image Mosaic DFM, Date: 02/11/2014 Imagery Aquired by American Aerial Surveys Inc.under contract with the California Dept. of Water Resources.Cam Type; Zeiss Top 15, 141307Lens: 141329Focal Length: 153 mmPhoto Scale: 1:3000
DWR makes no warranties or guarantees — either expressed or implied — as to the completeness, accuracy, or correctness of the data. DWR neither accepts nor assumes liability arising from or for any incorrect, incomplete, or misleading subject data. This is an official DWR Image Service, published on 10/09/2017 by Greg Twist of the California Dept. of Water Resources / Geospatial Data Support Section, who may be contacted at gtwist@water.ca.gov or 916-653-2700
Single Fused Map Cache: false
Extent:
XMin: 6650299.3
YMin: 1822919.1000000006
XMax: 6655720.499999999
YMax: 1828502.0999999996
Spatial Reference: 102642
(2226)
LatestVCSWkid(0)
Initial Extent:
XMin: 6650299.3
YMin: 1822919.1000000006
XMax: 6655720.499999999
YMax: 1828502.0999999996
Spatial Reference: 102642
(2226)
LatestVCSWkid(0)
Full Extent:
XMin: 6650299.3
YMin: 1822919.1000000006
XMax: 6655720.499999999
YMax: 1828502.0999999996
Spatial Reference: 102642
(2226)
LatestVCSWkid(0)
Pixel Size X: 0.1999999999999725
Pixel Size Y: 0.19999999999996665
Band Count: 3
Pixel Type: U8
RasterFunction Infos: {"rasterFunctionInfos": [{
"name": "None",
"description": "A No-Op Function.",
"help": ""
}]}
Mensuration Capabilities: None
Inspection Capabilities:
Has Histograms: true
Has Colormap: false
Has Multi Dimensions : false
Rendering Rule:
Min Scale: 0
Max Scale: 0
Copyright Text: DWR Division of Engineering Geodetic Branch
Service Data Type: esriImageServiceDataTypeRGB
Min Values: 0, 0, 0
Max Values: 244, 242, 243
Mean Values: 142.3562090165835, 138.33384159089525, 135.76480050073786
Standard Deviation Values: 25.104294546245058, 24.29626329308343, 23.759196090167848
Object ID Field: OBJECTID
Fields:
-
OBJECTID
(
type: esriFieldTypeOID, alias: OBJECTID
)
-
Shape
(
type: esriFieldTypeGeometry, alias: Shape
)
-
Name
(
type: esriFieldTypeString, alias: Name, length: 200
)
-
MinPS
(
type: esriFieldTypeDouble, alias: MinPS
)
-
MaxPS
(
type: esriFieldTypeDouble, alias: MaxPS
)
-
LowPS
(
type: esriFieldTypeDouble, alias: LowPS
)
-
HighPS
(
type: esriFieldTypeDouble, alias: HighPS
)
-
Category
(
type: esriFieldTypeInteger, alias: Category
, Coded Values:
[0: Unknown]
, [1: Primary]
, [2: Overview]
, ...6 more...
)
-
Tag
(
type: esriFieldTypeString, alias: Tag, length: 100
)
-
GroupName
(
type: esriFieldTypeString, alias: GroupName, length: 100
)
-
ProductName
(
type: esriFieldTypeString, alias: ProductName, length: 100
)
-
CenterX
(
type: esriFieldTypeDouble, alias: CenterX
)
-
CenterY
(
type: esriFieldTypeDouble, alias: CenterY
)
-
ZOrder
(
type: esriFieldTypeInteger, alias: ZOrder
)
-
Shape_Length
(
type: esriFieldTypeDouble, alias: Shape_Length
)
-
Shape_Area
(
type: esriFieldTypeDouble, alias: Shape_Area
)
Default Mosaic Method: Northwest
Allowed Mosaic Methods: NorthWest,Center,LockRaster,ByAttribute,Nadir,Viewpoint,Seamline,None
SortField:
SortValue: null
Mosaic Operator: First
Default Compression Quality: 75
Default Resampling Method: Bilinear
Max Record Count: 1000
Max Image Height: 4100
Max Image Width: 15000
Max Download Image Count: 20
Max Mosaic Image Count: 20
Allow Raster Function: true
Allow Copy: true
Allow Analysis: true
Allow Compute TiePoints: false
Supports Statistics: true
Supports Advanced Queries: true
Use StandardizedQueries: true
Raster Type Infos:
Name: Raster Dataset
Description: Supports all ArcGIS Raster Datasets
Help:
Has Raster Attribute Table: false
Edit Fields Info: null
Ownership Based AccessControl For Rasters: null
Child Resources:
Info
Histograms
Statistics
Key Properties
Legend
Raster Function Infos
Supported Operations:
Export Image
Query
Identify
Compute Histograms
Compute Statistics Histograms
Get Samples
Compute Class Statistics
Query GPS Info
Find Images
Image to Map
Map to Image
Measure from Image
Image to Map Multiray
Query Boundary
Compute Pixel Location
Compute Angles
Validate
Project