View In:
ArcGIS JavaScript
ArcGIS Online Map Viewer
ArcGIS Earth
Service Description: Aerial_Photography/Sac_Valley_Aug2021_Sentinel2_10meter_NIR
Name: Aerial_Photography/Sac_Valley_Aug2021_Sentinel2_10meter_NIR
Description:
Single Fused Map Cache: false
Extent:
XMin: 541190.0
YMin: 4239080.0
XMax: 667980.0
YMax: 4409140.0
Spatial Reference: 32610
(32610)
LatestVCSWkid(0)
Initial Extent:
XMin: 541190.0
YMin: 4239080.0
XMax: 667980.0
YMax: 4409140.0
Spatial Reference: 32610
(32610)
LatestVCSWkid(0)
Full Extent:
XMin: 541190.0
YMin: 4239080.0
XMax: 667980.0
YMax: 4409140.0
Spatial Reference: 32610
(32610)
LatestVCSWkid(0)
Pixel Size X: 10.0
Pixel Size Y: 10.0
Band Count: 4
Pixel Type: U16
RasterFunction Infos: {"rasterFunctionInfos": [{
"name": "None",
"description": "",
"help": ""
}]}
Mensuration Capabilities: Basic
Inspection Capabilities:
Has Histograms: true
Has Colormap: false
Has Multi Dimensions : false
Rendering Rule:
Min Scale: 0
Max Scale: 0
Copyright Text:
Service Data Type: esriImageServiceDataTypeGeneric
Min Values: 1, 134, 468, 0
Max Values: 18936, 17156, 18425, 17948
Mean Values: 1334.7284401264, 1220.6269580999, 1208.5004748649, 2798.2934919518
Standard Deviation Values: 619.95498609861, 337.78583321785, 268.53674562939, 754.63432164681
Object ID Field:
Fields:
None
Default Mosaic Method: Center
Allowed Mosaic Methods:
SortField:
SortValue: null
Mosaic Operator: First
Default Compression Quality: 75
Default Resampling Method: Bilinear
Max Record Count: null
Max Image Height: 4100
Max Image Width: 15000
Max Download Image Count: null
Max Mosaic Image Count: null
Allow Raster Function: true
Allow Copy: true
Allow Analysis: true
Allow Compute TiePoints: false
Supports Statistics: false
Supports Advanced Queries: false
Use StandardizedQueries: true
Raster Type Infos:
Name: Raster Dataset
Description: Supports all ArcGIS Raster Datasets
Help:
Has Raster Attribute Table: false
Edit Fields Info: null
Ownership Based AccessControl For Rasters: null
Child Resources:
Info
Histograms
Statistics
Key Properties
Legend
Raster Function Infos
Supported Operations:
Export Image
Identify
Measure
Compute Histograms
Compute Statistics Histograms
Get Samples
Compute Class Statistics
Query Boundary
Compute Pixel Location
Compute Angles
Validate
Project