View In:
ArcGIS JavaScript
ArcGIS Online Map Viewer
ArcGIS Earth
Service Description: Purpose:
Primary purpose is to document connectivity of the back-water channels in the channel.
Survey Date and Time:
Data was collected on 12/5/2023 1240-1305 PDT
Imagery Acquisition:
The imagery was collected using a DJI Mavic 2 Pro UAS, operating at 300’ above ground level, along one single flight line following the center line of Sugar Cut from the beginning of the channel to Old River. The field collection was controlled by a DJI Smart Controller running the DJI Pilot app.
Software Processing:
Images were imported into ArcGIS Pro 3.1.0 using the Ortho Mapping workspace tool, block adjusted, and an Orthomosaic was generated. No external control points were used for this project.
Adjustment summary from ArcGIS Pro:
Number of Adjusted Images 477
Number of Tie Points 3201769
Number of Solution Points 950213
Mean Reprojection Error / Sigma Naught (pixel) 0.32 / 0.42
Ground Resolution (m/pixel) 0.021
Adjustment Type Frame
Ground Control Points Involved in Adjustment No
This is an official DWR Image Service, which meets all appropriate requirements of the DWR Spatial Data Standards, specifically the DWR Spatial Data Standards version 3.7, dated September 2023.
DWR makes no warranties or guarantees — either expressed or implied — as to the completeness, accuracy, or correctness of the data. DWR neither accepts nor assumes liability arising from or for any incorrect, incomplete, or misleading subject data.
This Image Service was published on 12/7/2023 by the Division of Engineering. Comments, problems, improvements, updates, or suggestions should be forwarded to the official DWR point of contact as available and appropriate at gis@water.ca.gov.
Name: Aerial_Photography/SugarCut_20231205
Description: Purpose:
Primary purpose is to document connectivity of the back-water channels in the channel.
Survey Date and Time:
Data was collected on 12/5/2023 1240-1305 PDT
Imagery Acquisition:
The imagery was collected using a DJI Mavic 2 Pro UAS, operating at 300’ above ground level, along one single flight line following the center line of Sugar Cut from the beginning of the channel to Old River. The field collection was controlled by a DJI Smart Controller running the DJI Pilot app.
Software Processing:
Images were imported into ArcGIS Pro 3.1.0 using the Ortho Mapping workspace tool, block adjusted, and an Orthomosaic was generated. No external control points were used for this project.
Adjustment summary from ArcGIS Pro:
Number of Adjusted Images 477
Number of Tie Points 3201769
Number of Solution Points 950213
Mean Reprojection Error / Sigma Naught (pixel) 0.32 / 0.42
Ground Resolution (m/pixel) 0.021
Adjustment Type Frame
Ground Control Points Involved in Adjustment No
This is an official DWR Image Service, which meets all appropriate requirements of the DWR Spatial Data Standards, specifically the DWR Spatial Data Standards version 3.7, dated September 2023.
DWR makes no warranties or guarantees — either expressed or implied — as to the completeness, accuracy, or correctness of the data. DWR neither accepts nor assumes liability arising from or for any incorrect, incomplete, or misleading subject data.
This Image Service was published on 12/7/2023 by the Division of Engineering. Comments, problems, improvements, updates, or suggestions should be forwarded to the official DWR point of contact as available and appropriate at gis@water.ca.gov.
Single Fused Map Cache: false
Extent:
XMin: 638876.46
YMin: 4181735.0800000005
XMax: 639290.6599999999
YMax: 4184977.0
Spatial Reference: 32610
(32610)
VCSWkid(115700)
LatestVCSWkid(115700)
Initial Extent:
XMin: 638876.46
YMin: 4181735.0800000005
XMax: 639290.6599999999
YMax: 4184977.0
Spatial Reference: 32610
(32610)
VCSWkid(115700)
LatestVCSWkid(115700)
Full Extent:
XMin: 638876.46
YMin: 4181735.0800000005
XMax: 639290.6599999999
YMax: 4184977.0
Spatial Reference: 32610
(32610)
VCSWkid(115700)
LatestVCSWkid(115700)
Pixel Size X: 0.019999999999997752
Pixel Size Y: 0.019999999999996666
Band Count: 3
Pixel Type: U8
RasterFunction Infos: {"rasterFunctionInfos": [{
"name": "None",
"description": "Make a Raster or Raster Dataset into a Function Raster Dataset.",
"help": ""
}]}
Mensuration Capabilities: Basic
Inspection Capabilities:
Has Histograms: true
Has Colormap: false
Has Multi Dimensions : false
Rendering Rule:
Min Scale: 0
Max Scale: 0
Copyright Text: Michael Baldwin, P.E., California Department of Water Resources, NCRO
Service Data Type: esriImageServiceDataTypeRGB
Min Values: 1, 2, 1
Max Values: 255, 255, 255
Mean Values: 143.10111355678816, 138.19828765034882, 118.69435901163223
Standard Deviation Values: 33.075134977847064, 28.990351410939336, 26.390427781478635
Object ID Field:
Fields:
None
Default Mosaic Method: Center
Allowed Mosaic Methods:
SortField:
SortValue: null
Mosaic Operator: First
Default Compression Quality: 75
Default Resampling Method: Bilinear
Max Record Count: null
Max Image Height: 4100
Max Image Width: 15000
Max Download Image Count: null
Max Mosaic Image Count: null
Allow Raster Function: true
Allow Copy: true
Allow Analysis: true
Allow Compute TiePoints: false
Supports Statistics: false
Supports Advanced Queries: false
Use StandardizedQueries: true
Raster Type Infos:
Name: Raster Dataset
Description: Supports all ArcGIS Raster Datasets
Help:
Has Raster Attribute Table: false
Edit Fields Info: null
Ownership Based AccessControl For Rasters: null
Child Resources:
Info
Histograms
Statistics
Key Properties
Legend
Raster Function Infos
Supported Operations:
Export Image
Identify
Measure
Compute Histograms
Compute Statistics Histograms
Get Samples
Compute Class Statistics
Query Boundary
Compute Pixel Location
Compute Angles
Validate
Project