View In:
ArcGIS JavaScript
ArcGIS Online Map Viewer
ArcGIS Earth
Service Description: This archived dataset was developed by DWR for its internal use. This data is not suitable for property boundary determination, construction layout, legal descriptions, or any other professional land surveying or legal purpose. The data represents estimates of past conditions and measurements, may contain errors, and is no longer representative of current conditions. Neither the State of California, its agents, nor its employees, make any warranty, representation or guarantee, express or implied; nor assumes any liability or responsibility for the accuracy, completeness, or usefulness of this data.
The California Department of Water Resources (CA-DWR), North Central Region Office (NCRO), Bathymetry Data Collection Section, conducted a bathymetric survey of the Lake Del Valle Reservoir for the Delta Field Division of CA-DWR.• The purpose of this project is to document lake bed elevations, sediment rates, update stage/storage curves, and identify any issues with underwater structures in the Lake.• The survey took place between May 29th and June 5th, 2018 using multibeam echo sounder technology. • The data were positionally corrected using Inertially Aided Post-Processed Kinematic (IAPPK) procedures.• The data conforms with the NAD83 (California State Plane Zone III coordinate system) and NAVD88 datums. • The final density level of the multibeam data points is a 3 foot grid.
Name: Bathymetry/Bathy_NCRO_20180605_DelValle
Description:
Single Fused Map Cache: false
Extent:
XMin: 6200509.78694775
YMin: 2035314.618995167
XMax: 6216340.78694775
YMax: 2050425.618995167
Spatial Reference: 0
(0)
LatestVCSWkid(0)
Initial Extent:
XMin: 6200509.78694775
YMin: 2035314.618995167
XMax: 6216340.78694775
YMax: 2050425.618995167
Spatial Reference: 0
(0)
LatestVCSWkid(0)
Full Extent:
XMin: 6200509.78694775
YMin: 2035314.618995167
XMax: 6216340.78694775
YMax: 2050425.618995167
Spatial Reference: 0
(0)
LatestVCSWkid(0)
Pixel Size X: 3.0
Pixel Size Y: 3.0
Band Count: 1
Pixel Type: F32
RasterFunction Infos: {"rasterFunctionInfos": [
{
"name": "None",
"description": "Make a Raster or Raster Dataset into a Function Raster Dataset.",
"help": ""
},
{
"name": "DW_SacRioVista_CASP2_ColorRamp",
"description": "color ramp 2",
"help": ""
}
]}
Mensuration Capabilities: Basic
Inspection Capabilities:
Has Histograms: true
Has Colormap: false
Has Multi Dimensions : false
Rendering Rule:
Min Scale: 0
Max Scale: 0
Copyright Text: California Department of Water Resources, Division of Integrated Regional Water Management, North Central Region Office, Bathymetry Data Collection Section.
Service Data Type: esriImageServiceDataTypeGeneric
Min Values: 566.18988037109
Max Values: 708.56298828125
Mean Values: 649.27649242769
Standard Deviation Values: 39.241617857688
Object ID Field:
Fields:
None
Default Mosaic Method: Center
Allowed Mosaic Methods:
SortField:
SortValue: null
Mosaic Operator: First
Default Compression Quality: 75
Default Resampling Method: Bilinear
Max Record Count: null
Max Image Height: 4100
Max Image Width: 15000
Max Download Image Count: null
Max Mosaic Image Count: null
Allow Raster Function: true
Allow Copy: true
Allow Analysis: true
Allow Compute TiePoints: false
Supports Statistics: false
Supports Advanced Queries: false
Use StandardizedQueries: true
Raster Type Infos:
Name: Raster Dataset
Description: Supports all ArcGIS Raster Datasets
Help:
Has Raster Attribute Table: false
Edit Fields Info: null
Ownership Based AccessControl For Rasters: null
Child Resources:
Info
Histograms
Statistics
Key Properties
Legend
Raster Function Infos
Supported Operations:
Export Image
Identify
Measure
Compute Histograms
Compute Statistics Histograms
Get Samples
Compute Class Statistics
Query Boundary
Compute Pixel Location
Compute Angles
Validate
Project