View In:
ArcGIS JavaScript
ArcGIS Online Map Viewer
ArcGIS Earth
Service Description: This archived dataset was developed by DWR for its internal use. This data is not suitable for property boundary determination, construction layout, legal descriptions, or any other professional land surveying or legal purpose. The data represents estimates of past conditions and measurements, may contain errors, and is no longer representative of current conditions. Neither the State of California, its agents, nor its employees, make any warranty, representation or guarantee, express or implied; nor assumes any liability or responsibility for the accuracy, completeness, or usefulness of this data.
The California Department of Water Resources (DWR), North Central Region Office (NCRO), Bathymetry Data Collection Section, conducted a bathymetric survey of the Sacramento River near Fruitridge Rd. and Chicory Bend for the Division of Engineering Geodedic Branch. The main purpose of this data is to support a levee stability study.• Survey Dates: September 20, 2018 • Instrumentation: Multibeam echo sounder with Inertially-Aided Post-Processed Kinematic (IAPPK) GPS procedures• Density: 1 ft grid • Datum: NAD83 (California State Plane Zone II) horizontal, NAVD88 vertical
Name: Bathymetry/Bathy_NCRO_20180920_SacramentoRvr_at_ChicoryBend
Description:
Single Fused Map Cache: false
Extent:
XMin: 6695602.56
YMin: 1953371.34
XMax: 6698874.56
YMax: 1957083.34
Spatial Reference: 0
(0)
LatestVCSWkid(0)
Initial Extent:
XMin: 6695602.56
YMin: 1953371.34
XMax: 6698874.56
YMax: 1957083.34
Spatial Reference: 0
(0)
LatestVCSWkid(0)
Full Extent:
XMin: 6695602.56
YMin: 1953371.34
XMax: 6698874.56
YMax: 1957083.34
Spatial Reference: 0
(0)
LatestVCSWkid(0)
Pixel Size X: 1.0
Pixel Size Y: 1.0
Band Count: 1
Pixel Type: F32
RasterFunction Infos: {"rasterFunctionInfos": [
{
"name": "DW_SacRioVista_CASP2_ColorRamp",
"description": "color ramp 2",
"help": ""
},
{
"name": "None",
"description": "Make a Raster or Raster Dataset into a Function Raster Dataset.",
"help": ""
}
]}
Mensuration Capabilities: Basic
Inspection Capabilities:
Has Histograms: true
Has Colormap: false
Has Multi Dimensions : false
Rendering Rule:
Min Scale: 0
Max Scale: 0
Copyright Text: California Department of Water Resources, Division of Regional Assistance, North Central Region Office, Hydrography and Technical Support Section.
Service Data Type: esriImageServiceDataTypeGeneric
Min Values: -54.659999847412
Max Values: 7.3499999046326
Mean Values: -18.945497674097
Standard Deviation Values: 10.197341409449
Object ID Field:
Fields:
None
Default Mosaic Method: Center
Allowed Mosaic Methods:
SortField:
SortValue: null
Mosaic Operator: First
Default Compression Quality: 75
Default Resampling Method: Bilinear
Max Record Count: null
Max Image Height: 4100
Max Image Width: 15000
Max Download Image Count: null
Max Mosaic Image Count: null
Allow Raster Function: true
Allow Copy: true
Allow Analysis: true
Allow Compute TiePoints: false
Supports Statistics: false
Supports Advanced Queries: false
Use StandardizedQueries: true
Raster Type Infos:
Name: Raster Dataset
Description: Supports all ArcGIS Raster Datasets
Help:
Has Raster Attribute Table: false
Edit Fields Info: null
Ownership Based AccessControl For Rasters: null
Child Resources:
Info
Histograms
Statistics
Key Properties
Legend
Raster Function Infos
Supported Operations:
Export Image
Identify
Measure
Compute Histograms
Compute Statistics Histograms
Get Samples
Compute Class Statistics
Query Boundary
Compute Pixel Location
Compute Angles
Validate
Project