View In:
ArcGIS JavaScript
ArcGIS Online Map Viewer
ArcGIS Earth
Service Description: The California Department of Water Resources (DWR), North Central Region Office (NCRO), Bathymetry Data Collection Section, conducted a bathymetric survey of Old River as part of the Delta Wide Bathymetry Program. The main purpose of the data is to help complete bathymetric datasets of the South Delta and allow for relevant comparisons.
• Field Dates: March 16, 20, 2023
• Survey Type: Multibeam
• Data Density: 1 foot grid
• Horizontal Datum: North American Datum of 1983 (NAD83) California Coordinate System (CCS83) State Plane Zone 3, US feet
• Vertical Datum: North American Vertical Datum of 1988 (NAVD88) geoid 12B, US feet
• Processing Epoch: 2023.216; CSRC Datum Epoch: 2017.5
• Related Datasets: Old River April 2023,
• Involved Staff: Data collected and processed by NCRO Bathymetry and Hydrography sections
• Survey Responsible Charge: Jacob Wright, PLS (CA 8717)
Please contact the distributor for questions regarding survey control or QC checks. For complete metadata make sure the viewer (ArcGIS or other software) is set to view FGDC metadata.
Name: Bathymetry/Bathy_NCRO_20230320_OldRiver_at_DoughtyCut
Description:
Single Fused Map Cache: false
Extent:
XMin: 6293115.0
YMin: 2112889.0
XMax: 6305544.0
YMax: 2122464.0
Spatial Reference: 0
(0)
LatestVCSWkid(0)
Initial Extent:
XMin: 6293115.0
YMin: 2112889.0
XMax: 6305544.0
YMax: 2122464.0
Spatial Reference: 0
(0)
LatestVCSWkid(0)
Full Extent:
XMin: 6293115.0
YMin: 2112889.0
XMax: 6305544.0
YMax: 2122464.0
Spatial Reference: 0
(0)
LatestVCSWkid(0)
Pixel Size X: 1.0
Pixel Size Y: 1.0
Band Count: 1
Pixel Type: F32
RasterFunction Infos: {"rasterFunctionInfos": [
{
"name": "None",
"description": "Make a Raster or Raster Dataset into a Function Raster Dataset.",
"help": ""
},
{
"name": "DW_SacRioVista_CASP2_ColorRamp",
"description": "color ramp 2",
"help": ""
}
]}
Mensuration Capabilities: Basic
Inspection Capabilities:
Has Histograms: true
Has Colormap: false
Has Multi Dimensions : false
Rendering Rule:
Min Scale: 0
Max Scale: 0
Copyright Text: California Department of Water Resources, Division of Regional Assistance, North Central Region Office, Hydrography and Technical Support.
Service Data Type: esriImageServiceDataTypeGeneric
Min Values: -29.362674713135
Max Values: 10.163276672363
Mean Values: -3.1465015003767
Standard Deviation Values: 5.3854610426228
Object ID Field:
Fields:
None
Default Mosaic Method: Center
Allowed Mosaic Methods:
SortField:
SortValue: null
Mosaic Operator: First
Default Compression Quality: 75
Default Resampling Method: Bilinear
Max Record Count: null
Max Image Height: 4100
Max Image Width: 15000
Max Download Image Count: null
Max Mosaic Image Count: null
Allow Raster Function: true
Allow Copy: true
Allow Analysis: true
Allow Compute TiePoints: false
Supports Statistics: false
Supports Advanced Queries: false
Use StandardizedQueries: true
Raster Type Infos:
Name: Raster Dataset
Description: Supports all ArcGIS Raster Datasets
Help:
Has Raster Attribute Table: false
Edit Fields Info: null
Ownership Based AccessControl For Rasters: null
Child Resources:
Info
Histograms
Statistics
Key Properties
Legend
Raster Function Infos
Supported Operations:
Export Image
Identify
Measure
Compute Histograms
Compute Statistics Histograms
Get Samples
Compute Class Statistics
Query Boundary
Compute Pixel Location
Compute Angles
Validate
Project