View In:
ArcGIS JavaScript
ArcGIS Online Map Viewer
ArcGIS Earth
Service Description: The California Department of Water Resources (DWR), North Central Region Office (NCRO), Bathymetry Data Collection Section, conducted a bathymetric survey for of of the Sacramento River / Georgiana Slough junction to aid in determining the status of the submerged fish barrier structure and any accumulation of debris prior to removal by divers. Bathymetry was collected on the Sacramento River from 100 ft to 2500 ft downstream of the Walnut Grove Bridge (about 800 ft upstream to 1600 ft downstream of the Georgiana Slough centerline) and on Georgiana Slough from the Sac. River junction to 100 ft downstream of the Isleton Road Bridge. The fish barrier is visible in this dataset as a linear feature spanning the mouth of Georgiana Slough, however a bare earth cleaned surface can also be provided upon request.
• Field Dates: May 16, 2024
• Survey Type: Multibeam
• Data Density: 1 foot grid
• Horizontal Datum: North American Datum of 1983 (NAD83) 2011, California Coordinate System (CCS83) State Plane Zone 2, US feet
• Vertical Datum: North American Vertical Datum of 1988 (NAVD88), US feet
• Processing Epoch: 2024.375; CSRC Datum Epoch: 2017.5
• Related Datasets: Georgiana Slough 2020; Sacramento River at Walnut Grove 2022
• Involved Staff: Data collected and processed by NCRO Bathymetry and Hydrography sections
• Survey Responsible Charge: Jacob Wright, PLS (CA 8717)
For complete metadata make sure the viewer (ArcGIS or other software) is set to view FGDC metadata.
For full survey details and QAQC information please see the survey report associated with this dataset.
Name: Bathymetry/Bathy_NCRO_20240516_SacramentoRiver_at_GeorgianaSlu
Description:
Single Fused Map Cache: false
Extent:
XMin: 6698550.923599749
YMin: 1848221.6803999234
XMax: 6701230.923599749
YMax: 1850581.6803999234
Spatial Reference: 0
(0)
LatestVCSWkid(0)
Initial Extent:
XMin: 6698550.923599749
YMin: 1848221.6803999234
XMax: 6701230.923599749
YMax: 1850581.6803999234
Spatial Reference: 0
(0)
LatestVCSWkid(0)
Full Extent:
XMin: 6698550.923599749
YMin: 1848221.6803999234
XMax: 6701230.923599749
YMax: 1850581.6803999234
Spatial Reference: 0
(0)
LatestVCSWkid(0)
Pixel Size X: 1.0
Pixel Size Y: 1.0
Band Count: 1
Pixel Type: F32
RasterFunction Infos: {"rasterFunctionInfos": [
{
"name": "None",
"description": "Make a Raster or Raster Dataset into a Function Raster Dataset.",
"help": ""
},
{
"name": "DW_SacRioVista_CASP2_ColorRamp",
"description": "color ramp 2",
"help": ""
}
]}
Mensuration Capabilities: Basic
Inspection Capabilities:
Has Histograms: true
Has Colormap: false
Has Multi Dimensions : false
Rendering Rule:
Min Scale: 0
Max Scale: 0
Copyright Text: California Department of Water Resources, Division of Regional Assistance, North Central Region Office, Hydrography and Technical Support.
Service Data Type: esriImageServiceDataTypeGeneric
Min Values: -39.559894561768
Max Values: 4.9376640319824
Mean Values: -17.660973551892
Standard Deviation Values: 10.076120337802
Object ID Field:
Fields:
None
Default Mosaic Method: Center
Allowed Mosaic Methods:
SortField:
SortValue: null
Mosaic Operator: First
Default Compression Quality: 75
Default Resampling Method: Bilinear
Max Record Count: null
Max Image Height: 4100
Max Image Width: 15000
Max Download Image Count: null
Max Mosaic Image Count: null
Allow Raster Function: true
Allow Copy: true
Allow Analysis: true
Allow Compute TiePoints: false
Supports Statistics: false
Supports Advanced Queries: false
Use StandardizedQueries: true
Raster Type Infos:
Name: Raster Dataset
Description: Supports all ArcGIS Raster Datasets
Help:
Has Raster Attribute Table: false
Edit Fields Info: null
Ownership Based AccessControl For Rasters: null
Child Resources:
Info
Histograms
Statistics
Key Properties
Legend
Raster Function Infos
Supported Operations:
Export Image
Identify
Measure
Compute Histograms
Compute Statistics Histograms
Get Samples
Compute Class Statistics
Query Boundary
Compute Pixel Location
Compute Angles
Validate
Project