View In:
ArcGIS JavaScript
ArcGIS Online Map Viewer
ArcGIS Earth
Service Description: Field Survey Operations
The field survey included refresh of eighteen (18) aerial targets established for the 2017
project and twenty-one (21) new aerial targets. In addition, nineteen (19) QA/QC points were established within the LiDAR portion of the project. The aerial targets and QA/QC points were processed using four CGPS stations in the vicinity of Study Area.
Details on the Field Survey Operations are presented in the Survey Task Order Report dated September 23, 2019.
Horizontal and Vertical Datums
The horizontal datum used for this project is the North American Datum of 1983 (NSRS2007). Coordinates shown are California Coordinate System Zone 2 (CCS2). Units are U.S. Survey Feet. Elevations established in this survey are North American Vertical Datum of 1988 (NAVD88) as derived from applying Geoid 12B to ellipsoid heights.
Airborne Data Acquisition
The airborne LiDAR mission was performed on Thursday, July 25, 2019. The sensor used to collect the data is a Teladyne/Optech Galaxy PRIME and the laser was set to emit 10 points per square meter (10 PPM^2). The LiDAR strips were processed and calibrated using Optech’s LMS software suite and data from the CGPS stations identified in Survey Report. The LiDAR strips were tiled and classified for bare-earth using TerraScan software.
The airborne imagery missions were performed separately from the LiDAR mission. We used an UltraCAM Eagle Mark 2 large format digital camera. Imagery was acquired on July 24, July 26, and August 2, 2019 using a ground sample distance of 0.21ft.
LiDAR Derived Deliverables
The georeferenced point cloud data was classified to bare-earth and then model key-points were created. The model key-points were used to develop TIN surfaces in two formats: MicroStation InRoads and AutoCAD Civil 3D. Additionally, raster DEM surface with a one-foot cell size were generated from bare-earth point class.
DWR makes no warranties or guarantees — either expressed or implied — as to the completeness, accuracy, or correctness of the data. DWR neither accepts nor assumes liability arising from or for any incorrect, incomplete, or misleading subject data. This is an official DWR Image Service, published on September 30, 2019 by the Division of Engineering, Geodetic Branch, Geospatial Data Support Section, who may be contacted at gis@water.ca.gov.
Name: elevation/FeatherSacRiver_DEM_2019
Description: Field Survey Operations
The field survey included refresh of eighteen (18) aerial targets established for the 2017
project and twenty-one (21) new aerial targets. In addition, nineteen (19) QA/QC points were established within the LiDAR portion of the project. The aerial targets and QA/QC points were processed using four CGPS stations in the vicinity of Study Area.
Details on the Field Survey Operations are presented in the Survey Task Order Report dated September 23, 2019.
Horizontal and Vertical Datums
The horizontal datum used for this project is the North American Datum of 1983 (NSRS2007). Coordinates shown are California Coordinate System Zone 2 (CCS2). Units are U.S. Survey Feet. Elevations established in this survey are North American Vertical Datum of 1988 (NAVD88) as derived from applying Geoid 12B to ellipsoid heights.
Airborne Data Acquisition
The airborne LiDAR mission was performed on Thursday, July 25, 2019. The sensor used to collect the data is a Teladyne/Optech Galaxy PRIME and the laser was set to emit 10 points per square meter (10 PPM^2). The LiDAR strips were processed and calibrated using Optech’s LMS software suite and data from the CGPS stations identified in Survey Report. The LiDAR strips were tiled and classified for bare-earth using TerraScan software.
The airborne imagery missions were performed separately from the LiDAR mission. We used an UltraCAM Eagle Mark 2 large format digital camera. Imagery was acquired on July 24, July 26, and August 2, 2019 using a ground sample distance of 0.21ft.
LiDAR Derived Deliverables
The georeferenced point cloud data was classified to bare-earth and then model key-points were created. The model key-points were used to develop TIN surfaces in two formats: MicroStation InRoads and AutoCAD Civil 3D. Additionally, raster DEM surface with a one-foot cell size were generated from bare-earth point class.
DWR makes no warranties or guarantees — either expressed or implied — as to the completeness, accuracy, or correctness of the data. DWR neither accepts nor assumes liability arising from or for any incorrect, incomplete, or misleading subject data. This is an official DWR Image Service, published on September 30, 2019 by the Division of Engineering, Geodetic Branch, Geospatial Data Support Section, who may be contacted at gis@water.ca.gov.
Single Fused Map Cache: false
Extent:
XMin: 6651540.004114581
YMin: 2038179.9958941308
XMax: 6676440.004114581
YMax: 2114879.995894131
Spatial Reference: 102642
(2226)
LatestVCSWkid(0)
Initial Extent:
XMin: 6651540.004114581
YMin: 2038179.9958941308
XMax: 6676440.004114581
YMax: 2114879.995894131
Spatial Reference: 102642
(2226)
LatestVCSWkid(0)
Full Extent:
XMin: 6651540.004114581
YMin: 2038179.9958941308
XMax: 6676440.004114581
YMax: 2114879.995894131
Spatial Reference: 102642
(2226)
LatestVCSWkid(0)
Pixel Size X: 1.0
Pixel Size Y: 1.0
Band Count: 1
Pixel Type: F32
RasterFunction Infos: {"rasterFunctionInfos": [{
"name": "None",
"description": "",
"help": ""
}]}
Mensuration Capabilities: Basic
Inspection Capabilities:
Has Histograms: true
Has Colormap: false
Has Multi Dimensions : false
Rendering Rule:
Min Scale: 0
Max Scale: 0
Copyright Text: DWR DOE Geodetic, Towill
Service Data Type: esriImageServiceDataTypeGeneric
Min Values: 12.5625
Max Values: 59.00734329223633
Mean Values: 28.354858318207828
Standard Deviation Values: 6.422364745495028
Object ID Field: OBJECTID
Fields:
-
OBJECTID
(
type: esriFieldTypeOID, alias: OBJECTID
)
-
Shape
(
type: esriFieldTypeGeometry, alias: Shape
)
-
Name
(
type: esriFieldTypeString, alias: Name, length: 200
)
-
MinPS
(
type: esriFieldTypeDouble, alias: MinPS
)
-
MaxPS
(
type: esriFieldTypeDouble, alias: MaxPS
)
-
LowPS
(
type: esriFieldTypeDouble, alias: LowPS
)
-
HighPS
(
type: esriFieldTypeDouble, alias: HighPS
)
-
Category
(
type: esriFieldTypeInteger, alias: Category
, Coded Values:
[0: Unknown]
, [1: Primary]
, [2: Overview]
, ...6 more...
)
-
Tag
(
type: esriFieldTypeString, alias: Tag, length: 100
)
-
GroupName
(
type: esriFieldTypeString, alias: GroupName, length: 100
)
-
ProductName
(
type: esriFieldTypeString, alias: ProductName, length: 100
)
-
CenterX
(
type: esriFieldTypeDouble, alias: CenterX
)
-
CenterY
(
type: esriFieldTypeDouble, alias: CenterY
)
-
ZOrder
(
type: esriFieldTypeInteger, alias: ZOrder
)
-
Shape_Length
(
type: esriFieldTypeDouble, alias: Shape_Length
)
-
Shape_Area
(
type: esriFieldTypeDouble, alias: Shape_Area
)
Default Mosaic Method: Northwest
Allowed Mosaic Methods: NorthWest,Center,LockRaster,ByAttribute,Nadir,Viewpoint,Seamline,None
SortField:
SortValue: null
Mosaic Operator: First
Default Compression Quality: 75
Default Resampling Method: Bilinear
Max Record Count: 1000
Max Image Height: 4100
Max Image Width: 15000
Max Download Image Count: 20
Max Mosaic Image Count: 20
Allow Raster Function: true
Allow Copy: true
Allow Analysis: true
Allow Compute TiePoints: false
Supports Statistics: true
Supports Advanced Queries: true
Use StandardizedQueries: true
Raster Type Infos:
Name: Raster Dataset
Description: Supports all ArcGIS Raster Datasets
Help:
Has Raster Attribute Table: false
Edit Fields Info: null
Ownership Based AccessControl For Rasters: null
Child Resources:
Info
Histograms
Statistics
Key Properties
Legend
Raster Function Infos
Supported Operations:
Export Image
Query
Identify
Measure
Compute Histograms
Compute Statistics Histograms
Get Samples
Compute Class Statistics
Query GPS Info
Find Images
Image to Map
Map to Image
Measure from Image
Image to Map Multiray
Query Boundary
Compute Pixel Location
Compute Angles
Validate
Project