View In:
ArcGIS JavaScript
ArcGIS Online Map Viewer
ArcGIS Earth
Service Description: sar/Vertical_Displacement_TRE_ALTAMIRA_Annual_Rate_20160701_20170701
Name: sar/Vertical_Displacement_TRE_ALTAMIRA_Annual_Rate_20160701_20170701
Description:
Single Fused Map Cache: false
Extent:
XMin: -124.42233689190881
YMin: 32.465997587062844
XMax: -115.4069420486335
YMax: 42.00588960865853
Spatial Reference: 4326
(4326)
LatestVCSWkid(0)
Initial Extent:
XMin: -124.42233689190881
YMin: 32.465997587062844
XMax: -115.4069420486335
YMax: 42.00588960865853
Spatial Reference: 4326
(4326)
LatestVCSWkid(0)
Full Extent:
XMin: -124.42233689190881
YMin: 32.465997587062844
XMax: -115.4069420486335
YMax: 42.00588960865853
Spatial Reference: 4326
(4326)
LatestVCSWkid(0)
Pixel Size X: 0.001133584162363299
Pixel Size Y: 8.998200359928017E-4
Band Count: 1
Pixel Type: F32
RasterFunction Infos: {"rasterFunctionInfos": [
{
"name": "Annual_Classification_8classes",
"description": "A raster function template.",
"help": ""
},
{
"name": "None",
"description": "",
"help": ""
}
]}
Mensuration Capabilities: Basic
Inspection Capabilities:
Has Histograms: true
Has Colormap: false
Has Multi Dimensions : false
Rendering Rule:
Min Scale: 0
Max Scale: 0
Copyright Text:
Service Data Type: esriImageServiceDataTypeGeneric
Min Values: -0.9331381320953369
Max Values: 0.29462435841560364
Mean Values: -0.03354309675322491
Standard Deviation Values: 0.09206286494581922
Object ID Field:
Fields:
None
Default Mosaic Method: Center
Allowed Mosaic Methods:
SortField:
SortValue: null
Mosaic Operator: First
Default Compression Quality: 75
Default Resampling Method: Bilinear
Max Record Count: null
Max Image Height: 4100
Max Image Width: 15000
Max Download Image Count: null
Max Mosaic Image Count: null
Allow Raster Function: true
Allow Copy: true
Allow Analysis: true
Allow Compute TiePoints: false
Supports Statistics: false
Supports Advanced Queries: false
Use StandardizedQueries: true
Raster Type Infos:
Name: Raster Dataset
Description: Supports all ArcGIS Raster Datasets
Help:
Has Raster Attribute Table: false
Edit Fields Info: null
Ownership Based AccessControl For Rasters: null
Child Resources:
Info
Histograms
Statistics
Key Properties
Legend
Raster Function Infos
Supported Operations:
Export Image
Identify
Measure
Compute Histograms
Compute Statistics Histograms
Get Samples
Compute Class Statistics
Query Boundary
Compute Pixel Location
Compute Angles
Validate
Project