View In:
ArcGIS JavaScript
ArcGIS Online Map Viewer
ArcGIS Earth
ArcGIS Pro
Service Description: This dataset is meant to provide information for resource planning and assessments across multiple agencies and serves as a consistent base layer for a broad array of potential users and multiple end uses.
This dataset presents the 2014 agricultural land use, managed wetlands, and urban boundaries for all 58 counties in California. This data is prepared by Land IQ, LLC and provided to the California Department of Water Resources (DWR) and other resource agencies involved in work and planning efforts across the state for current land use information. Delineated from 2014 NAIP Imagery. The data are derived from a combination of remote sensing and agronomic analysis and ground verification.
Map Name: i15_Crop_Mapping_2014
Legend
All Layers and Tables
Dynamic Legend
Dynamic All Layers
Layers:
Description: This dataset is meant to provide information for resource planning and assessments across multiple agencies and serves as a consistent base layer for a broad array of potential users and multiple end uses.
This dataset presents the 2014 agricultural land use, managed wetlands, and urban boundaries for all 58 counties in California. This data is prepared by Land IQ, LLC and provided to the California Department of Water Resources (DWR) and other resource agencies involved in work and planning efforts across the state for current land use information. Delineated from 2014 NAIP Imagery. The data are derived from a combination of remote sensing and agronomic analysis and ground verification.
Copyright Text: California Department of Water Resources, LandIQ. Contact: gis@water.ca.gov.
Spatial Reference:
102100
(3857)
LatestVCSWkid(0)
Single Fused Map Cache: true
Tile Info:
- Height: 256
- Width: 256
- DPI: 96
-
Levels of Detail: 24
-
Level ID: 0
[ Start Tile, End Tile ]
- Resolution: 156543.03392800014
- Scale: 5.91657527591555E8
-
Level ID: 1
[ Start Tile, End Tile ]
- Resolution: 78271.51696399994
- Scale: 2.95828763795777E8
-
Level ID: 2
[ Start Tile, End Tile ]
- Resolution: 39135.75848200009
- Scale: 1.47914381897889E8
-
Level ID: 3
[ Start Tile, End Tile ]
- Resolution: 19567.87924099992
- Scale: 7.3957190948944E7
-
Level ID: 4
[ Start Tile, End Tile ]
- Resolution: 9783.93962049996
- Scale: 3.6978595474472E7
-
Level ID: 5
[ Start Tile, End Tile ]
- Resolution: 4891.96981024998
- Scale: 1.8489297737236E7
- Format: PNG
- Compression Quality: 0.0
- Origin: X: -2.0037508342787E7
Y: 2.0037508342787E7
- Spatial Reference: 102100
(3857)
LatestVCSWkid(0)
Storage Info:
- Storage Format: esriMapCacheStorageModeCompactV2
- Packet Size: 128
Initial Extent:
XMin: -1.4175311165513702E7
YMin: 4075517.563236047
XMax: -1.2596439510326605E7
YMax: 5019538.733495252
Spatial Reference: 102100
(0)
LatestVCSWkid(0)
Full Extent:
XMin: -1.38453896197E7
YMin: 3820496.090499997
XMax: -1.2705176445700001E7
YMax: 5161435.252800003
Spatial Reference: 102100
(0)
LatestVCSWkid(0)
Units: esriMeters
Supported Image Format Types: PNG32,PNG24,PNG,JPG,DIB,TIFF,EMF,PS,PDF,GIF,SVG,SVGZ,BMP
Document Info:
Title: i15_Crop_Mapping_2014
Author:
Comments: This dataset is meant to provide information for resource planning and assessments across multiple agencies and serves as a consistent base layer for a broad array of potential users and multiple end uses.
This dataset presents the 2014 agricultural land use, managed wetlands, and urban boundaries for all 58 counties in California. This data is prepared by Land IQ, LLC and provided to the California Department of Water Resources (DWR) and other resource agencies involved in work and planning efforts across the state for current land use information. Delineated from 2014 NAIP Imagery. The data are derived from a combination of remote sensing and agronomic analysis and ground verification.
Subject: Statewide, comprehensive, field-scale assessment of agricultural land use, as well as urban and managed wetland boundaries for 2014.
Category:
Keywords: crop,agriculture,State of California,boundaries,California agriculture,farming,Central Valley,boundaries,land use,fallow,2014,2014,irrigated land,environment
AntialiasingMode: Fast
TextAntialiasingMode: Force
Supports Dynamic Layers: true
Resampling: false
MaxRecordCount: 1000
MaxImageHeight: 4096
MaxImageWidth: 4096
Supported Query Formats: JSON, geoJSON, PBF
Supports Query Data Elements: true
Min Scale: 1.8489297737236E7
Max Scale: 4513.988705
Min LOD: 5
Max LOD: 17
Supports Datum Transformation: true
Child Resources:
Info
Dynamic Layer
Supported Operations:
Export Map
Identify
QueryLegends
QueryDomains
Find
Return Updates
Generate KML