View In:
ArcGIS JavaScript
ArcGIS Online Map Viewer
ArcGIS Earth
Service Description: Purpose:
The Primary purpose of this UAV mission is to delineate the remaining wetted channel following the high water (flood) events of Spring 2023. The Phantom 4-RTK was used for this specific mission plus additional ground control in order to create a high-quality DEM to reflect the post-flood existing ground surface within the Paradise Cut flood plain (Levee to Levee) and develop subsequent products (contours, orthophotos, etc.).
Survey Date and Time:
Data was collected on 8/9/2023 1015-1230 PST Imagery Acquisition:
The imagery was collected using a Phantom 4 PRO RTK, operating at 250’ above ground level, multiple flight lines criss-crossing the center line of Paradise Cut from the weir on the San Joaquin River to the confluence with Old River. The field collection was controlled by a DJI Smart Controller running the DJI Pilot app.
Software Processing:
Images were imported into AgiSoft using GCP’s the precise RTK-GPS values, block adjusted, and an Orthomosaic was generated. Adjustment summary from AgiSoft
Number of Adjusted Images 1473 Number of Tie Points 9467196 Number of Solution Points 3053413
Mean Reprojection Error / Sigma (cm/pixel) 3.8cm Ground Resolution GSD (cm/pixel) 7.6cm
Adjustment Type GCP’s - Tragets
Ground Control Points Involved in Adjustment 16 GCP’s
This is an official DWR Image Service, which meets all appropriate requirements of the DWR Spatial Data Standards, specifically the DWR Spatial Data Standards version 3.5, dated September2023.
DWR makes no warranties or guarantees — either expressed or implied — as to the completeness, accuracy, or correctness of the data. DWR neither accepts nor assumes liability arising from or for any incorrect, incomplete, or misleading subject data.
This Image Service was published on 1/8/2024, by the DWR Division of Engineering. Comments, problems, improvements, updates, or suggestions should be forwarded to the official DWR point of contact as available and appropriate at gis@water.ca.gov
Name: Aerial_Photography/ParadiseCut_20230809
Description: Purpose:
The Primary purpose of this UAV mission is to delineate the remaining wetted channel following the high water (flood) events of Spring 2023. The Phantom 4-RTK was used for this specific mission plus additional ground control in order to create a high-quality DEM to reflect the post-flood existing ground surface within the Paradise Cut flood plain (Levee to Levee) and develop subsequent products (contours, orthophotos, etc.).
Survey Date and Time:
Data was collected on 8/9/2023 1015-1230 PST Imagery Acquisition:
The imagery was collected using a Phantom 4 PRO RTK, operating at 250’ above ground level, multiple flight lines criss-crossing the center line of Paradise Cut from the weir on the San Joaquin River to the confluence with Old River. The field collection was controlled by a DJI Smart Controller running the DJI Pilot app.
Software Processing:
Images were imported into AgiSoft using GCP’s the precise RTK-GPS values, block adjusted, and an Orthomosaic was generated. Adjustment summary from AgiSoft
Number of Adjusted Images 1473 Number of Tie Points 9467196 Number of Solution Points 3053413
Mean Reprojection Error / Sigma (cm/pixel) 3.8cm Ground Resolution GSD (cm/pixel) 7.6cm
Adjustment Type GCP’s - Tragets
Ground Control Points Involved in Adjustment 16 GCP’s
This is an official DWR Image Service, which meets all appropriate requirements of the DWR Spatial Data Standards, specifically the DWR Spatial Data Standards version 3.5, dated September2023.
DWR makes no warranties or guarantees — either expressed or implied — as to the completeness, accuracy, or correctness of the data. DWR neither accepts nor assumes liability arising from or for any incorrect, incomplete, or misleading subject data.
This Image Service was published on 1/8/2024, by the DWR Division of Engineering. Comments, problems, improvements, updates, or suggestions should be forwarded to the official DWR point of contact as available and appropriate at gis@water.ca.gov
Single Fused Map Cache: false
Extent:
XMin: -121.38037254720317
YMin: 37.75791698282221
XMax: -121.30717535586317
YMax: 37.80553617626221
Spatial Reference: 4326
(4326)
LatestVCSWkid(0)
Initial Extent:
XMin: -121.38037254720317
YMin: 37.75791698282221
XMax: -121.30717535586317
YMax: 37.80553617626221
Spatial Reference: 4326
(4326)
LatestVCSWkid(0)
Full Extent:
XMin: -121.38037254720317
YMin: 37.75791698282221
XMax: -121.30717535586317
YMax: 37.80553617626221
Spatial Reference: 4326
(4326)
LatestVCSWkid(0)
Pixel Size X: 2.648100000000009E-7
Pixel Size Y: 2.648099999999956E-7
Band Count: 4
Pixel Type: U8
RasterFunction Infos: {"rasterFunctionInfos": [{
"name": "None",
"description": "",
"help": ""
}]}
Mensuration Capabilities: Basic
Inspection Capabilities:
Has Histograms: true
Has Colormap: false
Has Multi Dimensions : false
Rendering Rule:
Min Scale: 0
Max Scale: 0
Copyright Text: Michael Baldwin, P.E., California Department of Water Resources, NCRO
Service Data Type: esriImageServiceDataTypeGeneric
Min Values: 0, 0, 0, 0
Max Values: 255, 255, 255, 255
Mean Values: 236.9926112913147, 236.80769428350587, 232.86265771695184, 34.5463275674507
Standard Deviation Values: 49.49001636935487, 49.324077050985345, 58.31374744378816, 87.26892221661133
Object ID Field: OBJECTID
Fields:
-
OBJECTID
(
type: esriFieldTypeOID, alias: OBJECTID
)
-
Shape
(
type: esriFieldTypeGeometry, alias: Shape
)
-
Name
(
type: esriFieldTypeString, alias: Name, length: 200
)
-
MinPS
(
type: esriFieldTypeDouble, alias: MinPS
)
-
MaxPS
(
type: esriFieldTypeDouble, alias: MaxPS
)
-
LowPS
(
type: esriFieldTypeDouble, alias: LowPS
)
-
HighPS
(
type: esriFieldTypeDouble, alias: HighPS
)
-
Category
(
type: esriFieldTypeInteger, alias: Category
, Coded Values:
[0: Unknown]
, [1: Primary]
, [2: Overview]
, ...6 more...
)
-
Tag
(
type: esriFieldTypeString, alias: Tag, length: 100
)
-
GroupName
(
type: esriFieldTypeString, alias: GroupName, length: 100
)
-
ProductName
(
type: esriFieldTypeString, alias: ProductName, length: 100
)
-
CenterX
(
type: esriFieldTypeDouble, alias: CenterX
)
-
CenterY
(
type: esriFieldTypeDouble, alias: CenterY
)
-
ZOrder
(
type: esriFieldTypeInteger, alias: ZOrder
)
-
Shape_Length
(
type: esriFieldTypeDouble, alias: Shape_Length
)
-
Shape_Area
(
type: esriFieldTypeDouble, alias: Shape_Area
)
Default Mosaic Method: Northwest
Allowed Mosaic Methods: NorthWest,Center,LockRaster,ByAttribute,Nadir,Viewpoint,Seamline,None
SortField:
SortValue: null
Mosaic Operator: First
Default Compression Quality: 75
Default Resampling Method: Bilinear
Max Record Count: 1000
Max Image Height: 4100
Max Image Width: 15000
Max Download Image Count: 20
Max Mosaic Image Count: 20
Allow Raster Function: true
Allow Copy: true
Allow Analysis: true
Allow Compute TiePoints: false
Supports Statistics: true
Supports Advanced Queries: true
Use StandardizedQueries: true
Raster Type Infos:
Name: Raster Dataset
Description: Supports all ArcGIS Raster Datasets
Help:
Has Raster Attribute Table: false
Edit Fields Info: null
Ownership Based AccessControl For Rasters: null
Child Resources:
Info
Histograms
Statistics
Key Properties
Legend
Raster Function Infos
Supported Operations:
Export Image
Identify
Measure
Compute Histograms
Compute Statistics Histograms
Get Samples
Compute Class Statistics
Query Boundary
Compute Pixel Location
Compute Angles
Validate
Project