View In:
ArcGIS JavaScript
ArcGIS Online Map Viewer
ArcGIS Earth
Service Description: Complete product metadata is as follows: Task 1 – Survey Control Survey control was provided solely by airborne GPS technology. No field survey was performed under this assignment. Task 2 – Airborne Data Acquisition Four band (RGB-IR) imagery was acquired for the study area on June 13-14, 2018. The airborne mission was conducted as the following times: June 13, 2018 – 8:03am to 11:15am June 14, 2018 – 9:07am to 10:11am The mission plan was based on the following parameters: Camera: Vexcel UltraCAM Falcon Prime Nominal Resolution: 13.5 cm Altitude: 8000 ft AMT Flightlines: 41 Exposures: 1034 Task 3 – Terrain Modeling Terrain models required for orthophoto production were developed from the imagery using a combination of online data sources (USGS 3D Elevation Program) and manual photogrammetric compilation methods. Task 4 – Orthophoto Generation Analytical aerotriangulation was performed on the imagery using INPHO's MATCH AT software. The orthorectification and mosaicking was performed using OrthoMaster and OrthoVista software. In accordance with typical mapping practice, the imagery was rectified at ground level. Therefore, the tops of above-ground features (such as rooftops, tops of structures, tops of trees, tops of poles, etc.) may not necessarily appear in their correct horizontal positions. The resolution of the orthophoto imagery is 0.5ft. This is an official DWR Image Service, republished on March 25, 2019 by Stephanie Baker of the Division of Engineering, Geodetic Branch, Geospatial Data Support Section, who may be contacted at stephanie.baker@water.ca.gov, or 916-653-9815. DWR makes no warranties or guarantees — either expressed or implied — as to the completeness, accuracy, or correctness of the data. DWR neither accepts nor assumes liability arising from or for any incorrect, incomplete, or misleading subject data.
Name: Aerial_Photography/SuisunMarsh_YoloBypass_2018
Description: Complete product metadata is as follows: Task 1 – Survey Control Survey control was provided solely by airborne GPS technology. No field survey was performed under this assignment. Task 2 – Airborne Data Acquisition Four band (RGB-IR) imagery was acquired for the study area on June 13-14, 2018. The airborne mission was conducted as the following times: June 13, 2018 – 8:03am to 11:15am June 14, 2018 – 9:07am to 10:11am The mission plan was based on the following parameters: Camera: Vexcel UltraCAM Falcon Prime Nominal Resolution: 13.5 cm Altitude: 8000 ft AMT Flightlines: 41 Exposures: 1034 Task 3 – Terrain Modeling Terrain models required for orthophoto production were developed from the imagery using a combination of online data sources (USGS 3D Elevation Program) and manual photogrammetric compilation methods. Task 4 – Orthophoto Generation Analytical aerotriangulation was performed on the imagery using INPHO's MATCH AT software. The orthorectification and mosaicking was performed using OrthoMaster and OrthoVista software. In accordance with typical mapping practice, the imagery was rectified at ground level. Therefore, the tops of above-ground features (such as rooftops, tops of structures, tops of trees, tops of poles, etc.) may not necessarily appear in their correct horizontal positions. The resolution of the orthophoto imagery is 0.5ft. This is an official DWR Image Service, republished on March 25, 2019 by Stephanie Baker of the Division of Engineering, Geodetic Branch, Geospatial Data Support Section, who may be contacted at stephanie.baker@water.ca.gov, or 916-653-9815. DWR makes no warranties or guarantees — either expressed or implied — as to the completeness, accuracy, or correctness of the data. DWR neither accepts nor assumes liability arising from or for any incorrect, incomplete, or misleading subject data.
Single Fused Map Cache: false
Extent:
XMin: 6513000.000044301
YMin: 1758999.9999031425
XMax: 6675000.000044301
YMax: 1908999.9999031425
Spatial Reference: 102642
(2226)
VCSWkid(105703)
LatestVCSWkid(6360)
Initial Extent:
XMin: 6513000.000044301
YMin: 1758999.9999031425
XMax: 6675000.000044301
YMax: 1908999.9999031425
Spatial Reference: 102642
(2226)
VCSWkid(105703)
LatestVCSWkid(6360)
Full Extent:
XMin: 6513000.000044301
YMin: 1758999.9999031425
XMax: 6675000.000044301
YMax: 1908999.9999031425
Spatial Reference: 102642
(2226)
VCSWkid(105703)
LatestVCSWkid(6360)
Pixel Size X: 0.5
Pixel Size Y: 0.5
Band Count: 4
Pixel Type: U8
RasterFunction Infos: {"rasterFunctionInfos": [{
"name": "None",
"description": "A No-Op Function.",
"help": ""
}]}
Mensuration Capabilities: Basic
Inspection Capabilities:
Has Histograms: true
Has Colormap: false
Has Multi Dimensions : false
Rendering Rule:
Min Scale: 0
Max Scale: 0
Copyright Text: DWR Division of Engineering Geodetic Branch
Service Data Type: esriImageServiceDataTypeGeneric
Min Values: 0, 0, 0, 0
Max Values: 255, 255, 255, 255
Mean Values: 125.3991925255169, 118.4132219422907, 101.14287340418078, 170.65439755279192
Standard Deviation Values: 56.51737684679962, 55.00112017138438, 59.17890623152221, 45.068071185071354
Object ID Field: OBJECTID
Fields:
-
OBJECTID
(
type: esriFieldTypeOID, alias: OBJECTID
)
-
Shape
(
type: esriFieldTypeGeometry, alias: Shape
)
-
Name
(
type: esriFieldTypeString, alias: Name, length: 200
)
-
MinPS
(
type: esriFieldTypeDouble, alias: MinPS
)
-
MaxPS
(
type: esriFieldTypeDouble, alias: MaxPS
)
-
LowPS
(
type: esriFieldTypeDouble, alias: LowPS
)
-
HighPS
(
type: esriFieldTypeDouble, alias: HighPS
)
-
Category
(
type: esriFieldTypeInteger, alias: Category
, Coded Values:
[0: Unknown]
, [1: Primary]
, [2: Overview]
, ...6 more...
)
-
Tag
(
type: esriFieldTypeString, alias: Tag, length: 100
)
-
GroupName
(
type: esriFieldTypeString, alias: GroupName, length: 100
)
-
ProductName
(
type: esriFieldTypeString, alias: ProductName, length: 100
)
-
CenterX
(
type: esriFieldTypeDouble, alias: CenterX
)
-
CenterY
(
type: esriFieldTypeDouble, alias: CenterY
)
-
ZOrder
(
type: esriFieldTypeInteger, alias: ZOrder
)
-
Shape_Length
(
type: esriFieldTypeDouble, alias: Shape_Length
)
-
Shape_Area
(
type: esriFieldTypeDouble, alias: Shape_Area
)
Default Mosaic Method: Northwest
Allowed Mosaic Methods: NorthWest,Center,LockRaster,ByAttribute,Nadir,Viewpoint,Seamline,None
SortField:
SortValue: null
Mosaic Operator: First
Default Compression Quality: 75
Default Resampling Method: Bilinear
Max Record Count: 1000
Max Image Height: 4100
Max Image Width: 15000
Max Download Image Count: 20
Max Mosaic Image Count: 20
Allow Raster Function: true
Allow Copy: true
Allow Analysis: true
Allow Compute TiePoints: false
Supports Statistics: true
Supports Advanced Queries: true
Use StandardizedQueries: true
Raster Type Infos:
Name: Raster Dataset
Description: Supports all ArcGIS Raster Datasets
Help:
Has Raster Attribute Table: false
Edit Fields Info: null
Ownership Based AccessControl For Rasters: null
Child Resources:
Info
Histograms
Statistics
Key Properties
Legend
Raster Function Infos
Supported Operations:
Export Image
Query
Identify
Measure
Compute Histograms
Compute Statistics Histograms
Get Samples
Compute Class Statistics
Query GPS Info
Find Images
Image to Map
Map to Image
Measure from Image
Image to Map Multiray
Query Boundary
Compute Pixel Location
Compute Angles
Validate
Project