View In:
ArcGIS JavaScript
ArcGIS Online Map Viewer
ArcGIS Earth
Service Description: The California Department of Water Resources (DWR), North Central Region Office (NCRO), Bathymetry Data Collection Section, conducted a bathymetric survey of the Sacramento River near Clarksburg for DWR's Delta Conveyance Office on behalf of the Delta Conveyance Authority. The purpose of this survey is for assessment of patterns of deposition and scour in the channel reach, bed stability and suitability for future intake planning. This measurement was collected after an early season high-flow event during which the flow was recorded to be between 50,000 to 80,000 cfs for three weeks.
• Survey Dates: January 31, 2023 to Febrauary 8, 2023
• Instrumentation: Multibeam echo sounder and Inertially-Aided Post-Processed Kinematic (IAPPK) GPS procedures
• Density: 1 ft grid
• Horizontal Datum: North American Datum of 1983 (NAD83) (2011) California Coordinate System (CCS83) State Plane Zone III , USft
• Vertical Datum: North American Vertical Datum of 1988 (NAVD88), USft
• Data Epoch: 2017.5
• Related Datasets: Sacramento River at Clarksburg, 4/17/2019; Sacramento River 8/19/2019
• Involved Staff: Data collected and processed by NCRO Bathymetry and Hydrography sections
• Survey Responsible Charge: Jacob Wright, PLS (CA 8717)
Please contact the distributor for questions regarding survey control or QC checks. For complete metadata make sure the viewer (ArcGIS or other software) is set to view FGDC metadata.
Name: Bathymetry/Bathy_NCRO_20230208_SacramentoRiver
Description:
Single Fused Map Cache: false
Extent:
XMin: 6205363.338915164
YMin: 2291584.0237851706
XMax: 6360041.338915164
YMax: 2362936.0237851706
Spatial Reference: 0
(0)
LatestVCSWkid(0)
Initial Extent:
XMin: 6205363.338915164
YMin: 2291584.0237851706
XMax: 6360041.338915164
YMax: 2362936.0237851706
Spatial Reference: 0
(0)
LatestVCSWkid(0)
Full Extent:
XMin: 6205363.338915164
YMin: 2291584.0237851706
XMax: 6360041.338915164
YMax: 2362936.0237851706
Spatial Reference: 0
(0)
LatestVCSWkid(0)
Pixel Size X: 1.0
Pixel Size Y: 1.0
Band Count: 1
Pixel Type: F32
RasterFunction Infos: {"rasterFunctionInfos": [
{
"name": "None",
"description": "Make a Raster or Raster Dataset into a Function Raster Dataset.",
"help": ""
},
{
"name": "DW_SacRioVista_CASP2_ColorRamp",
"description": "color ramp 2",
"help": ""
}
]}
Mensuration Capabilities: Basic
Inspection Capabilities:
Has Histograms: true
Has Colormap: false
Has Multi Dimensions : false
Rendering Rule:
Min Scale: 0
Max Scale: 0
Copyright Text: California Department of Water Resources, Division of Regional Assistance, North Central Region Office, Hydrography and Technical Support Section.
Service Data Type: esriImageServiceDataTypeGeneric
Min Values: -46.738986968994
Max Values: 8.9210710525513
Mean Values: -16.090228352307
Standard Deviation Values: 8.0628745491914
Object ID Field:
Fields:
None
Default Mosaic Method: Center
Allowed Mosaic Methods:
SortField:
SortValue: null
Mosaic Operator: First
Default Compression Quality: 75
Default Resampling Method: Bilinear
Max Record Count: null
Max Image Height: 4100
Max Image Width: 15000
Max Download Image Count: null
Max Mosaic Image Count: null
Allow Raster Function: true
Allow Copy: true
Allow Analysis: true
Allow Compute TiePoints: false
Supports Statistics: false
Supports Advanced Queries: false
Use StandardizedQueries: true
Raster Type Infos:
Name: Raster Dataset
Description: Supports all ArcGIS Raster Datasets
Help:
Has Raster Attribute Table: false
Edit Fields Info: null
Ownership Based AccessControl For Rasters: null
Child Resources:
Info
Histograms
Statistics
Key Properties
Legend
Raster Function Infos
Supported Operations:
Export Image
Identify
Measure
Compute Histograms
Compute Statistics Histograms
Get Samples
Compute Class Statistics
Query Boundary
Compute Pixel Location
Compute Angles
Validate
Project