View In:
ArcGIS JavaScript
ArcGIS Online Map Viewer
ArcGIS Earth
Service Description: The California Department of Water Resources (DWR), North Central Region Office (NCRO), Bathymetry Data Collection Section, conducted a bathymetric survey of Old River as part of the Delta Wide Bathymetry Program. The main purpose of the data is to help complete bathymetric datasets of the South Delta and allow for relevant comparisons.
• Field Dates: July 3-6, 2023
• Survey Type: Multibeam
• Data Density: 1 ft grid
• Horizontal Datum: North American Datum of 1983 (NAD83) California Coordinate System (CCS83) State Plane Zone III US ft
• Vertical Datum: North American Vertical Datum of 1988 (NAVD88) US ft
• Process Epoch: 2023.512; Datum Epoch: 2017.5
• Related Datasets: Old River at Salmon Slough 2013, Old River Five Points 2018, Old River East 2022, Paradise Cut 2022, Old River 2022
• Involved Staff: Data collected and processed by NCRO Bathymetry and Hydrography sections
• Survey Responsible Charge: Jacob Wright, PLS (CA 8717)
Please contact the distributor for questions regarding survey control or QC checks. For complete metadata make sure the viewer (ArcGIS or other software) is set to view FGDC metadata.
Name: Bathymetry/Bathy_NCRO_20230706_OldRiver_at_ParadiseCut
Description:
Single Fused Map Cache: false
Extent:
XMin: 6294368.429090392
YMin: 2111659.359299237
XMax: 6316042.429090392
YMax: 2120702.359299237
Spatial Reference: 0
(0)
LatestVCSWkid(0)
Initial Extent:
XMin: 6294368.429090392
YMin: 2111659.359299237
XMax: 6316042.429090392
YMax: 2120702.359299237
Spatial Reference: 0
(0)
LatestVCSWkid(0)
Full Extent:
XMin: 6294368.429090392
YMin: 2111659.359299237
XMax: 6316042.429090392
YMax: 2120702.359299237
Spatial Reference: 0
(0)
LatestVCSWkid(0)
Pixel Size X: 1.0
Pixel Size Y: 1.0
Band Count: 1
Pixel Type: F64
RasterFunction Infos: {"rasterFunctionInfos": [
{
"name": "None",
"description": "Make a Raster or Raster Dataset into a Function Raster Dataset.",
"help": ""
},
{
"name": "DW_SacRioVista_CASP2_ColorRamp",
"description": "color ramp 2",
"help": ""
}
]}
Mensuration Capabilities: Basic
Inspection Capabilities:
Has Histograms: true
Has Colormap: false
Has Multi Dimensions : false
Rendering Rule:
Min Scale: 0
Max Scale: 0
Copyright Text: California Department of Water Resources, Division of Regional Assistance, North Central Region Office
Service Data Type: esriImageServiceDataTypeGeneric
Min Values: -29.689912796021
Max Values: 6.8412437438965
Mean Values: -1.964445695771
Standard Deviation Values: 3.8006207083405
Object ID Field:
Fields:
None
Default Mosaic Method: Center
Allowed Mosaic Methods:
SortField:
SortValue: null
Mosaic Operator: First
Default Compression Quality: 75
Default Resampling Method: Bilinear
Max Record Count: null
Max Image Height: 4100
Max Image Width: 15000
Max Download Image Count: null
Max Mosaic Image Count: null
Allow Raster Function: true
Allow Copy: true
Allow Analysis: true
Allow Compute TiePoints: false
Supports Statistics: false
Supports Advanced Queries: false
Use StandardizedQueries: true
Raster Type Infos:
Name: Raster Dataset
Description: Supports all ArcGIS Raster Datasets
Help:
Has Raster Attribute Table: false
Edit Fields Info: null
Ownership Based AccessControl For Rasters: null
Child Resources:
Info
Histograms
Statistics
Key Properties
Legend
Raster Function Infos
Supported Operations:
Export Image
Identify
Measure
Compute Histograms
Compute Statistics Histograms
Get Samples
Compute Class Statistics
Query Boundary
Compute Pixel Location
Compute Angles
Validate
Project