View In:
ArcGIS JavaScript
ArcGIS Online Map Viewer
ArcGIS Earth
Service Description: The California Department of Water Resources (DWR), North Central Region Office (NCRO), Bathymetry Data Collection Section, conducted a bathymetric survey of Dyer Reservoir for the Delta Field Division. The main purpose of the data is to better understand sediment influx into the basin and to monitor submerged fixed works.
• Field Dates: April 10, 2024
• Survey Type: Multibeam / Lidar
• Data Density: 1 foot grid
• Horizontal Datum: North American Datum of 1983 (NAD83), California Coordinate System (CCS83) State Plane Zone 3, US feet
• Vertical Datum: North American Vertical Datum of 1988 (NAVD88) Geoid 18, US feet
• Processing Epoch: 2017.5; CSRC Datum Epoch: 2017.5
• Related Datasets: Dyer Reservoir multibeam Feb. 2021 (NCRO); Dyer Reservoir lidar May. 2018 (DOE)
• Involved Staff: Data collected and processed by NCRO Bathymetry and Hydrography sections
• Survey Responsible Charge: Jacob Wright, PLS (CA 8717)
Please see associated survey report for full control and QC check details.
For complete metadata make sure the viewer (ArcGIS or other software) is set to view FGDC metadata.
Name: Bathymetry/Bathy_NCRO_20240410_DyerReservoir_Interpolated
Description:
Single Fused Map Cache: false
Extent:
XMin: 6221985.874000001
YMin: 2099792.244399969
XMax: 6222970.874000001
YMax: 2101242.244399969
Spatial Reference: 0
(0)
LatestVCSWkid(0)
Initial Extent:
XMin: 6221985.874000001
YMin: 2099792.244399969
XMax: 6222970.874000001
YMax: 2101242.244399969
Spatial Reference: 0
(0)
LatestVCSWkid(0)
Full Extent:
XMin: 6221985.874000001
YMin: 2099792.244399969
XMax: 6222970.874000001
YMax: 2101242.244399969
Spatial Reference: 0
(0)
LatestVCSWkid(0)
Pixel Size X: 1.0
Pixel Size Y: 1.0
Band Count: 1
Pixel Type: F32
RasterFunction Infos: {"rasterFunctionInfos": [
{
"name": "None",
"description": "Make a Raster or Raster Dataset into a Function Raster Dataset.",
"help": ""
},
{
"name": "None",
"description": "Make a Raster or Raster Dataset into a Function Raster Dataset.",
"help": ""
},
{
"name": "DW_SacRioVista_CASP2_ColorRamp",
"description": "color ramp 2",
"help": ""
}
]}
Mensuration Capabilities: Basic
Inspection Capabilities:
Has Histograms: true
Has Colormap: false
Has Multi Dimensions : false
Rendering Rule:
Min Scale: 0
Max Scale: 0
Copyright Text: California Department of Water Resources, Division of Regional Assistance, North Central Region Office, Hydrography and Technical Support.
Service Data Type: esriImageServiceDataTypeGeneric
Min Values: 779.46551513672
Max Values: 816.55303955078
Mean Values: 788.56336822074
Standard Deviation Values: 8.9505088697472
Object ID Field:
Fields:
None
Default Mosaic Method: Center
Allowed Mosaic Methods:
SortField:
SortValue: null
Mosaic Operator: First
Default Compression Quality: 75
Default Resampling Method: Bilinear
Max Record Count: null
Max Image Height: 4100
Max Image Width: 15000
Max Download Image Count: null
Max Mosaic Image Count: null
Allow Raster Function: true
Allow Copy: true
Allow Analysis: true
Allow Compute TiePoints: false
Supports Statistics: false
Supports Advanced Queries: false
Use StandardizedQueries: true
Raster Type Infos:
Name: Raster Dataset
Description: Supports all ArcGIS Raster Datasets
Help:
Has Raster Attribute Table: false
Edit Fields Info: null
Ownership Based AccessControl For Rasters: null
Child Resources:
Info
Histograms
Statistics
Key Properties
Legend
Raster Function Infos
Supported Operations:
Export Image
Identify
Measure
Compute Histograms
Compute Statistics Histograms
Get Samples
Compute Class Statistics
Query Boundary
Compute Pixel Location
Compute Angles
Validate
Project