View In:
ArcGIS JavaScript
ArcGIS Online Map Viewer
ArcGIS Earth
Service Description: The California Department of Water Resources (DWR) and U.S. Bureau of Reclamation (Reclamation) are proposing the Yolo Bypass Salmonid Habitat Restoration and Fish Passage (YBSHRFP) Project to improve fish passage and to increase floodplain rearing habitat for juvenile salmonids in the Yolo Bypass and lower Sacramento River basin. DWR and Reclamation are jointly planning the YBSHRFP Project to comply with the Reasonable and Prudent Alternative (RPA) actions I.6.1 and I.7, as described in the 2009 National Marine Fisheries Service (NMFS) Biological Opinion and Conference Opinion on the Long-Term Operations of the Central Valley Project and State Water Project. The YBSHRFP Project would modify the existing Fremont Weir to allow for improved hydraulic connection between the Sacramento River and the Yolo Bypass. In addition, one downstream agricultural road crossing would be modified to allow for improved fish passage within the Yolo Bypass Tule Canal. DWR and Reclamation released a public draft of the Environmental Impact Statement /Environmental Impact Report (EIS/EIR) in December 2017. DWR and Reclamation created the Yolo Bypass Salmonid Habitat Restoration and Fish Passage Project Parcel Inundation Tool (beta) as a platform to view modeled results of how increased flows may affect inundation within the Yolo Bypass on a field by field basis. The tool provides hydrodynamic modeling results and maps for any selected assessor parcel in the Yolo Bypass. Daily depth rasters for all 16 water years that were evaluated (1997-2012) at an individual parcel level for Existing Conditions and Alternative 1-3 within the Yolo Bypass.
All information provided by the Department of Water Resources on its Web pages and Internet sites is made available to provide immediate access for the convenience of interested persons. While the Department believes the information to be reliable, human or mechanical error remains a possibility. Therefore, the Department does not guarantee the accuracy, completeness, timeliness, or correct sequencing of the information. Neither the Department of Water Resources nor any of the sources of the information shall be responsible for any errors or omissions, or for the use or results obtained from the use of this information.
If you have questions or would like to be added to our listserve, send your name and email address to yolo_bypass_biop@water.ca.gov.
Name: InlandWaters/DepthMDS
Description: The California Department of Water Resources (DWR) and U.S. Bureau of Reclamation (Reclamation) are proposing the Yolo Bypass Salmonid Habitat Restoration and Fish Passage (YBSHRFP) Project to improve fish passage and to increase floodplain rearing habitat for juvenile salmonids in the Yolo Bypass and lower Sacramento River basin. DWR and Reclamation are jointly planning the YBSHRFP Project to comply with the Reasonable and Prudent Alternative (RPA) actions I.6.1 and I.7, as described in the 2009 National Marine Fisheries Service (NMFS) Biological Opinion and Conference Opinion on the Long-Term Operations of the Central Valley Project and State Water Project. The YBSHRFP Project would modify the existing Fremont Weir to allow for improved hydraulic connection between the Sacramento River and the Yolo Bypass. In addition, one downstream agricultural road crossing would be modified to allow for improved fish passage within the Yolo Bypass Tule Canal. DWR and Reclamation released a public draft of the Environmental Impact Statement /Environmental Impact Report (EIS/EIR) in December 2017. DWR and Reclamation created the Yolo Bypass Salmonid Habitat Restoration and Fish Passage Project Parcel Inundation Tool (beta) as a platform to view modeled results of how increased flows may affect inundation within the Yolo Bypass on a field by field basis. The tool provides hydrodynamic modeling results and maps for any selected assessor parcel in the Yolo Bypass. Daily depth rasters for all 16 water years that were evaluated (1997-2012) at an individual parcel level for Existing Conditions and Alternative 1-3 within the Yolo Bypass.
All information provided by the Department of Water Resources on its Web pages and Internet sites is made available to provide immediate access for the convenience of interested persons. While the Department believes the information to be reliable, human or mechanical error remains a possibility. Therefore, the Department does not guarantee the accuracy, completeness, timeliness, or correct sequencing of the information. Neither the Department of Water Resources nor any of the sources of the information shall be responsible for any errors or omissions, or for the use or results obtained from the use of this information.
If you have questions or would like to be added to our listserve, send your name and email address to yolo_bypass_biop@water.ca.gov.
Single Fused Map Cache: false
Extent:
XMin: 612595.8852000004
YMin: 4223995.4280070355
XMax: 631264.922538075
YMax: 4305041.9101
Spatial Reference: 26910
(26910)
LatestVCSWkid(0)
Initial Extent:
XMin: 612595.8852000004
YMin: 4223995.4280070355
XMax: 631264.922538075
YMax: 4305041.9101
Spatial Reference: 26910
(26910)
LatestVCSWkid(0)
Full Extent:
XMin: 612595.8852000004
YMin: 4223995.4280070355
XMax: 631264.922538075
YMax: 4305041.9101
Spatial Reference: 26910
(26910)
LatestVCSWkid(0)
Time Info:
Start Time Field: Time
End Time Field: Time
Time Extent:
[1996/11/01 00:00:00 UTC, 2012/05/31 00:00:00 UTC]
Time Reference:
N/A
Pixel Size X: 15.240030480060936
Pixel Size Y: 15.240030480061012
Band Count: 1
Pixel Type: F32
RasterFunction Infos: {"rasterFunctionInfos": [
{
"name": "ClasifiedColorBlues",
"description": "A raster function template.",
"help": ""
},
{
"name": "ClasifiedColorBlues",
"description": "A raster function template.",
"help": ""
},
{
"name": "None",
"description": "",
"help": ""
}
]}
Mensuration Capabilities: Basic
Inspection Capabilities:
Has Histograms: true
Has Colormap: false
Has Multi Dimensions : false
Rendering Rule:
Min Scale: 0
Max Scale: 0
Resampling: false
Copyright Text: California Department of Water Resources and U.S. Bureau of Reclamation with support from ESRI, cbec eco engineering, and HDR
Service Data Type: esriImageServiceDataTypeGeneric
Min Values: 0.3696236312389374
Max Values: 27.946401596069336
Mean Values: 8.04765431756197
Standard Deviation Values: 7.168694098788062
Object ID Field: OBJECTID
Fields:
-
OBJECTID
(
type: esriFieldTypeOID, alias: OBJECTID
)
-
Shape
(
type: esriFieldTypeGeometry, alias: Shape
)
-
Name
(
type: esriFieldTypeString, alias: Name, length: 200
)
-
MinPS
(
type: esriFieldTypeDouble, alias: MinPS
)
-
MaxPS
(
type: esriFieldTypeDouble, alias: MaxPS
)
-
LowPS
(
type: esriFieldTypeDouble, alias: LowPS
)
-
HighPS
(
type: esriFieldTypeDouble, alias: HighPS
)
-
Category
(
type: esriFieldTypeInteger, alias: Category
, Coded Values:
[0: Unknown]
, [1: Primary]
, [2: Overview]
, ...6 more...
)
-
Tag
(
type: esriFieldTypeString, alias: Tag, length: 100
)
-
GroupName
(
type: esriFieldTypeString, alias: GroupName, length: 100
)
-
ProductName
(
type: esriFieldTypeString, alias: ProductName, length: 100
)
-
CenterX
(
type: esriFieldTypeDouble, alias: CenterX
)
-
CenterY
(
type: esriFieldTypeDouble, alias: CenterY
)
-
ZOrder
(
type: esriFieldTypeInteger, alias: ZOrder
)
-
Alternative
(
type: esriFieldTypeString, alias: Alternative, length: 50
)
-
WaterYear
(
type: esriFieldTypeString, alias: WaterYear, length: 4
)
-
Time
(
type: esriFieldTypeDate, alias: Time, length: 8
)
-
Year
(
type: esriFieldTypeSmallInteger, alias: Year
)
-
Month
(
type: esriFieldTypeSmallInteger, alias: Month
)
-
Day
(
type: esriFieldTypeSmallInteger, alias: Day
)
-
Shape_Length
(
type: esriFieldTypeDouble, alias: Shape_Length
)
-
Shape_Area
(
type: esriFieldTypeDouble, alias: Shape_Area
)
Default Mosaic Method: ByAttribute
Allowed Mosaic Methods: ByAttribute,None
SortField: Time
SortValue: 0
Mosaic Operator: First
Default Compression Quality: 75
Default Resampling Method: Bilinear
Max Record Count: 1000
Max Image Height: 4100
Max Image Width: 15000
Max Download Image Count: 20
Max Mosaic Image Count: 1
Allow Raster Function: true
Allow Copy: true
Allow Analysis: true
Allow Compute TiePoints: false
Supports Statistics: true
Supports Advanced Queries: true
Use StandardizedQueries: true
Raster Type Infos:
Name: Raster Dataset
Description: Supports all ArcGIS Raster Datasets
Help:
Has Raster Attribute Table: false
Edit Fields Info: null
Ownership Based AccessControl For Rasters: null
Child Resources:
Info
Histograms
Statistics
Key Properties
Legend
Raster Function Infos
Supported Operations:
Export Image
Query
Identify
Measure
Compute Histograms
Compute Statistics Histograms
Get Samples
Compute Class Statistics
Query GPS Info
Find Images
Image to Map
Map to Image
Measure from Image
Image to Map Multiray
Query Boundary
Compute Pixel Location
Compute Angles
Validate
Project