View In:
ArcGIS JavaScript
ArcGIS Online Map Viewer
ArcGIS Earth
Service Description: The 2017 Sentinel Mosaiced image consists of multispectral stacked potions of the following Sentinel-2 tiles: L1C_T10SEH_A011264_20170818T190326, L1C_T10SEJ_A011264_20170818T190326, L1C_T10SFH_A011264_20170818T190326, L1C_T10SFJ_A011264_20170818T190326, L1C_T10TEK_A011264_20170818T190326. Each stacked tile contains the Sentinel-2 band 4: Red (665nm), band 3: Green (560nm), band 2: Blue (490nm) and band 8: Near-Infrared (842nm) 10 meter resolution bands. When stacked the bands were reordered in ArcGIS Pro, Red was assigned to Band 1, Green was assigned to band 2, Blue was assigned to band 3, and Near-Infrared was assigned to band 4 in the multispectral image. Once the multi-spectral image was stacked and mosaiced together, the Mosaiced image was clipped to the outer dissolved boundary of the following Detailed Analysis Unit (DAU) by County: 16604, 16704, 16804, 17004, 14211, 16311, 16411, 16611, 16711, portion of 16058, 17158, 17258, 16306, 16406, 16706, 16451, 16551, 16651, 16851, 17151, 17251, 16257, 16357, 16457, 18657, 19157, 17231, 17234. These DAUs by County areas make up a large portion of the Sacramento Valley.
The Sentinel-2 Imagery is a product of the European Commission’s Copernicus program and in agreement is processed into Image Tiles by the United States Geological Survey (USGS) for scientific usage. The Sentinel-2 Imagery Tiles are downloaded from the Earth Explorer, USGS Global Visualization Viewer (GloVis), or the Sentinel2Look Viewer . For more information on the Sentinel Imagery Tiles go to https://www.usgs.gov/centers/eros/science/usgs-eros-archive-sentinel-2?qt-science_center_objects=0#qt-science_center_objects.
Name: Satellite_Imagery/Sac_Valley_Aug2017_Sentinel2_10meter_NIR
Description:
Single Fused Map Cache: false
Extent:
XMin: 541190.0
YMin: 4239080.0
XMax: 667980.0
YMax: 4409140.0
Spatial Reference: 32610
(32610)
LatestVCSWkid(0)
Initial Extent:
XMin: 541190.0
YMin: 4239080.0
XMax: 667980.0
YMax: 4409140.0
Spatial Reference: 32610
(32610)
LatestVCSWkid(0)
Full Extent:
XMin: 541190.0
YMin: 4239080.0
XMax: 667980.0
YMax: 4409140.0
Spatial Reference: 32610
(32610)
LatestVCSWkid(0)
Pixel Size X: 10.0
Pixel Size Y: 10.0
Band Count: 4
Pixel Type: U16
RasterFunction Infos: {"rasterFunctionInfos": [
{
"name": "Sac Valley Sentinel-2",
"description": "Sac Valley Sentinel-2",
"help": ""
},
{
"name": "None",
"description": "",
"help": ""
}
]}
Mensuration Capabilities: Basic
Inspection Capabilities:
Has Histograms: false
Has Colormap: false
Has Multi Dimensions : false
Rendering Rule:
Min Scale: 0
Max Scale: 0
Copyright Text: European Space Agency (ESA), United States Geological Survey (USGS) California Department of Water Resources (DWR) State Water Project Analysis Office (SWPAO), Jason Harbaugh, Environmental Scientist at DWR North Central Region Office (NCRO).
Service Data Type: esriImageServiceDataTypeGeneric
Min Values: N/A
Max Values: N/A
Mean Values: N/A
Standard Deviation Values: N/A
Object ID Field: OBJECTID
Fields:
-
OBJECTID
(
type: esriFieldTypeOID, alias: OBJECTID
)
-
Shape
(
type: esriFieldTypeGeometry, alias: Shape
)
-
Name
(
type: esriFieldTypeString, alias: Name, length: 200
)
-
MinPS
(
type: esriFieldTypeDouble, alias: MinPS
)
-
MaxPS
(
type: esriFieldTypeDouble, alias: MaxPS
)
-
LowPS
(
type: esriFieldTypeDouble, alias: LowPS
)
-
HighPS
(
type: esriFieldTypeDouble, alias: HighPS
)
-
Category
(
type: esriFieldTypeInteger, alias: Category
, Coded Values:
[0: Unknown]
, [1: Primary]
, [2: Overview]
, ...6 more...
)
-
Tag
(
type: esriFieldTypeString, alias: Tag, length: 100
)
-
GroupName
(
type: esriFieldTypeString, alias: GroupName, length: 100
)
-
ProductName
(
type: esriFieldTypeString, alias: ProductName, length: 100
)
-
CenterX
(
type: esriFieldTypeDouble, alias: CenterX
)
-
CenterY
(
type: esriFieldTypeDouble, alias: CenterY
)
-
ZOrder
(
type: esriFieldTypeInteger, alias: ZOrder
)
-
Shape_Length
(
type: esriFieldTypeDouble, alias: Shape_Length
)
-
Shape_Area
(
type: esriFieldTypeDouble, alias: Shape_Area
)
Default Mosaic Method: Northwest
Allowed Mosaic Methods: NorthWest,Center,LockRaster,ByAttribute,Nadir,Viewpoint,Seamline,None
SortField:
SortValue: null
Mosaic Operator: First
Default Compression Quality: 75
Default Resampling Method: Bilinear
Max Record Count: 1000
Max Image Height: 4100
Max Image Width: 15000
Max Download Image Count: 20
Max Mosaic Image Count: 20
Allow Raster Function: true
Allow Copy: true
Allow Analysis: true
Allow Compute TiePoints: false
Supports Statistics: true
Supports Advanced Queries: true
Use StandardizedQueries: true
Raster Type Infos:
Name: Raster Dataset
Description: Supports all ArcGIS Raster Datasets
Help:
Has Raster Attribute Table: false
Edit Fields Info: null
Ownership Based AccessControl For Rasters: null
Child Resources:
Info
Statistics
Key Properties
Legend
Raster Function Infos
Supported Operations:
Export Image
Query
Identify
Measure
Compute Histograms
Compute Statistics Histograms
Get Samples
Compute Class Statistics
Query GPS Info
Find Images
Image to Map
Map to Image
Measure from Image
Image to Map Multiray
Query Boundary
Compute Pixel Location
Compute Angles
Validate
Project