View In:
  ArcGIS JavaScript
  ArcGIS Online Map Viewer
  ArcGIS Earth
Service Description:  DEMs were sourced from three surveys performed in 2015 by Towill, Inc., under contract with California Department of Water Resources Division of Engineering, Geodetic Branch. Specific surveys were for Oroville Rim Study, Prairie Creek Fault, and the Cleveland Hills Fault. While initial bare earth editing had been performed on the delivered LIDAR DEMs, subsequent inspection revealed that additional, more-complete bare earth editing was required for higher-level end uses. Consequently, in April, 2018, DWR DOE/Geodetic undertook additional bare earth editing, along with subsequent mosaicking of the three DEMs into a single seamless version. The more-refined bare earth classification included using a more aggressive automated filter of vegetation points, followed by subsequent manual editing of areas potentially important to hydraulic modeling (bridges, for example). The resulting bare earth data are considered more consistent than earlier versions of the bare earth surface. DWR makes no warranties or guarantees — either expressed or implied — as to the completeness, accuracy, or correctness of the data. DWR neither accepts nor assumes liability arising from or for any incorrect, incomplete, or misleading subject data. Service republished 3/17/2021 by DWR DOE Geomatics (J Dudas).
Name:  elevation/Oroville_DEM_2015
Description:  DEMs were sourced from three surveys performed in 2015 by Towill, Inc., under contract with California Department of Water Resources Division of Engineering, Geodetic Branch. Specific surveys were for Oroville Rim Study, Prairie Creek Fault, and the Cleveland Hills Fault. While initial bare earth editing had been performed on the delivered LIDAR DEMs, subsequent inspection revealed that additional, more-complete bare earth editing was required for higher-level end uses. Consequently, in April, 2018, DWR DOE/Geodetic undertook additional bare earth editing, along with subsequent mosaicking of the three DEMs into a single seamless version. The more-refined bare earth classification included using a more aggressive automated filter of vegetation points, followed by subsequent manual editing of areas potentially important to hydraulic modeling (bridges, for example). The resulting bare earth data are considered more consistent than earlier versions of the bare earth surface. DWR makes no warranties or guarantees — either expressed or implied — as to the completeness, accuracy, or correctness of the data. DWR neither accepts nor assumes liability arising from or for any incorrect, incomplete, or misleading subject data. Service republished 3/17/2021 by DWR DOE Geomatics (J Dudas).
Single Fused Map Cache:  false
Extent: 
XMin: 6630000.0
YMin: 2229000.0
XMax: 6774000.0
YMax: 2391000.0
Spatial Reference: 102642
 (2226)
 LatestVCSWkid(0)
Initial Extent:
XMin: 6630000.0
YMin: 2229000.0
XMax: 6774000.0
YMax: 2391000.0
Spatial Reference: 102642
 (2226)
 LatestVCSWkid(0)
Full Extent:
XMin: 6630000.0
YMin: 2229000.0
XMax: 6774000.0
YMax: 2391000.0
Spatial Reference: 102642
 (2226)
 LatestVCSWkid(0)
Pixel Size X: 1.0
Pixel Size Y:  1.0
Band Count: 1
Pixel Type: F32
RasterFunction Infos:  {"rasterFunctionInfos": [{
 "name": "None",
 "description": "",
 "help": ""
}]}
Mensuration Capabilities: None
Inspection Capabilities: 
Has Histograms:  true
Has Colormap:  false
Has Multi Dimensions :  false
Rendering Rule: 
Min Scale:  0
Max Scale:  0
Resampling:  false
Copyright Text:  DWR Division of Engineering, Geomatics Branch
Service Data Type:  esriImageServiceDataTypeGeneric
Min Values:  91.83999633789062
Max Values:  758.4099731445312
Mean Values:  195.57338739823766
Standard Deviation Values:  91.72383530411861
Object ID Field:  OBJECTID
Fields: 
- 
OBJECTID
(
type: esriFieldTypeOID, alias: OBJECTID
)
- 
Shape
(
type: esriFieldTypeGeometry, alias: Shape
)
- 
Name
(
type: esriFieldTypeString, alias: Name, length: 200
)
- 
MinPS
(
type: esriFieldTypeDouble, alias: MinPS
)
- 
MaxPS
(
type: esriFieldTypeDouble, alias: MaxPS
)
- 
LowPS
(
type: esriFieldTypeDouble, alias: LowPS
)
- 
HighPS
(
type: esriFieldTypeDouble, alias: HighPS
)
- 
Category
(
type: esriFieldTypeInteger, alias: Category
, Coded Values: 
[0: Unknown]
, [1: Primary]
, [2: Overview]
, ...6 more...
)
- 
Tag
(
type: esriFieldTypeString, alias: Tag, length: 100
)
- 
GroupName
(
type: esriFieldTypeString, alias: GroupName, length: 100
)
- 
ProductName
(
type: esriFieldTypeString, alias: ProductName, length: 100
)
- 
CenterX
(
type: esriFieldTypeDouble, alias: CenterX
)
- 
CenterY
(
type: esriFieldTypeDouble, alias: CenterY
)
- 
ZOrder
(
type: esriFieldTypeInteger, alias: ZOrder
)
- 
Shape_Length
(
type: esriFieldTypeDouble, alias: Shape_Length
)
- 
Shape_Area
(
type: esriFieldTypeDouble, alias: Shape_Area
)
Default Mosaic Method: Northwest
Allowed Mosaic Methods:  NorthWest,Center,LockRaster,ByAttribute,Nadir,Viewpoint,Seamline,None
SortField:  
SortValue:  null
Mosaic Operator:  First
Default Compression Quality:  75
Default Resampling Method:  Bilinear
Max Record Count:  1000
Max Image Height:  4100
Max Image Width:  15000
Max Download Image Count:  20
Max Mosaic Image Count:  20
Allow Raster Function:  true
Allow Copy:  true
Allow Analysis:  true
Allow Compute TiePoints:  false
Supports Statistics:  true
Supports Advanced Queries:  true
Use StandardizedQueries:  true
Raster Type Infos: 
Name: Raster Dataset
Description: Supports all ArcGIS Raster Datasets
Help: 
Has Raster Attribute Table: false
Edit Fields Info:  null
Ownership Based AccessControl For Rasters:  null
Child Resources:
  
Info
  Histograms
  Statistics
  Key Properties
  Legend
  Raster Function Infos
Supported Operations:
  
Export Image
  Query
  Identify
  Compute Histograms
  Compute Statistics Histograms
  Get Samples
  Compute Class Statistics
  Query GPS Info
  Find Images
  Image to Map
  Map to Image
  Measure from Image
  Image to Map Multiray
  Query Boundary
  Compute Pixel Location
  Compute Angles
  Validate
  Project