View In:
ArcGIS JavaScript
ArcGIS Online Map Viewer
ArcGIS Earth
Service Description: Ground level surface of Patterson Reservoir was surveyed with a total of 2371, captured from a flying altitude of 126 feet. Camera model used was the FC6310 (8.8mm) with a resolution of 5472 x 3648 and a focal length of 8.8mm. NAD 1983 CA StatePlane Zone 3, NAVD88, units are in feet.Ground level surface of Patterson Reservoir was surveyed with a total of 2371, captured from a flying altitude of 126 feet. Camera model used was the FC6310 (8.8mm) with a resolution of 5472 x 3648 and a focal length of 8.8mm. NAD 1983 CA StatePlane Zone 3, NAVD88, units are in feet.
Name: elevation/Patterson_2019_Topobathy
Description: Ground level surface of Patterson Reservoir was surveyed with a total of 2371, captured from a flying altitude of 126 feet. Camera model used was the FC6310 (8.8mm) with a resolution of 5472 x 3648 and a focal length of 8.8mm. NAD 1983 CA StatePlane Zone 3, NAVD88, units are in feet.Ground level surface of Patterson Reservoir was surveyed with a total of 2371, captured from a flying altitude of 126 feet. Camera model used was the FC6310 (8.8mm) with a resolution of 5472 x 3648 and a focal length of 8.8mm. NAD 1983 CA StatePlane Zone 3, NAVD88, units are in feet.
Single Fused Map Cache: false
Extent:
XMin: 6218923.005353044
YMin: 2078281.884892342
XMax: 6219722.005353044
YMax: 2079051.884892342
Spatial Reference: 103005
(6420)
LatestVCSWkid(0)
Initial Extent:
XMin: 6218923.005353044
YMin: 2078281.884892342
XMax: 6219722.005353044
YMax: 2079051.884892342
Spatial Reference: 103005
(6420)
LatestVCSWkid(0)
Full Extent:
XMin: 6218923.005353044
YMin: 2078281.884892342
XMax: 6219722.005353044
YMax: 2079051.884892342
Spatial Reference: 103005
(6420)
LatestVCSWkid(0)
Pixel Size X: 1.0
Pixel Size Y: 1.0
Band Count: 1
Pixel Type: F32
RasterFunction Infos: {"rasterFunctionInfos": [{
"name": "None",
"description": "",
"help": ""
}]}
Mensuration Capabilities: Basic
Inspection Capabilities:
Has Histograms: true
Has Colormap: false
Has Multi Dimensions : false
Rendering Rule:
Min Scale: 0
Max Scale: 0
Copyright Text: CA Department of Water Resources (DWR), Division of Engineering (DOE)
Service Data Type: esriImageServiceDataTypeGeneric
Min Values: 678.1290893554688
Max Values: 717.882080078125
Mean Values: 697.829326618551
Standard Deviation Values: 10.731060452418381
Object ID Field:
Fields:
None
Default Mosaic Method: Center
Allowed Mosaic Methods:
SortField:
SortValue: null
Mosaic Operator: First
Default Compression Quality: 75
Default Resampling Method: Bilinear
Max Record Count: null
Max Image Height: 4100
Max Image Width: 15000
Max Download Image Count: null
Max Mosaic Image Count: null
Allow Raster Function: true
Allow Copy: true
Allow Analysis: true
Allow Compute TiePoints: false
Supports Statistics: false
Supports Advanced Queries: false
Use StandardizedQueries: true
Raster Type Infos:
Name: Raster Dataset
Description: Supports all ArcGIS Raster Datasets
Help:
Has Raster Attribute Table: false
Edit Fields Info: null
Ownership Based AccessControl For Rasters: null
Child Resources:
Info
Histograms
Statistics
Key Properties
Legend
Raster Function Infos
Supported Operations:
Export Image
Identify
Measure
Compute Histograms
Compute Statistics Histograms
Get Samples
Compute Class Statistics
Query Boundary
Compute Pixel Location
Compute Angles
Validate
Project