View In:
ArcGIS JavaScript
ArcGIS Online Map Viewer
ArcGIS Earth
Service Description: This is a mosaic of the hydro-flattened digital elevation model (DEM) surfaces of the San Francisco Bay and Sacramento San Joaquin Delta. This only includes the section of the acquisition that corresponds to California State Plane Zone 2. This LiDAR was collected by NV5 & Guida through a DWR contract and partnership with
Delta Stewardship Council (DSC), Delta Conservancy, and San Francisco Estuary Institute
(SFEI). The overall work unit area covered approximately 1,988 square miles over California
at Quality Level 1 LiDAR according to USGS 3DEP standards. LiDAR data was acquired from
August 22, 2025 to October 6, 2025 in 24 total lifts. Rasters are provided at 1 foot grid size.
The Basis for this Survey is the North American Datum of 1983 (NAD83(2011)) constrained
to the California Spatial Reference Center (CSRC) Continuous Global Position System
(CGPS) stations using published CSRC NAD83(2011) 2025.00 epoch adjustment values
and the Geoid 18 Model. Results are shown in California Coordinate System 1983
(NAD83(2011) 2025.00 epoch) Zones 2 and 3, US Survey Feet and North American Vertical
Datum of 1988 (NAVD88) in U.S. Survey Feet based upon NAD83(2011) 2025.00 epoch
ellipsoid heights with the Geoid 18 model applied.
Please see the DWR QC Report and Guida Survey Reports for more information. DWR’s aerial mapping consultant, Guida has cleared this dataset to meet project requirements and project specifications under the direction of their California Licensed Land Surveyor.
The associated data are considered DWR enterprise GIS data, which meet all appropriate requirements of the DWR Spatial Data Standards, specifically the DWR Spatial Data Standard version 3.6, dated September 27, 2023.
DWR makes no warranties or guarantees — either expressed or implied — as to the completeness, accuracy, or correctness of the data. DWR neither accepts nor assumes liability arising from or for any incorrect, incomplete, or misleading subject data. Contact: GIS@water.ca.gov
Name: elevation/SFBay_Delta_Zone2_Hydroflattened_2025_LIDAR
Description: This is a mosaic of the hydro-flattened digital elevation model (DEM) surfaces of the San Francisco Bay and Sacramento San Joaquin Delta. This only includes the section of the acquisition that corresponds to California State Plane Zone 2. This LiDAR was collected by NV5 & Guida through a DWR contract and partnership with
Delta Stewardship Council (DSC), Delta Conservancy, and San Francisco Estuary Institute
(SFEI). The overall work unit area covered approximately 1,988 square miles over California
at Quality Level 1 LiDAR according to USGS 3DEP standards. LiDAR data was acquired from
August 22, 2025 to October 6, 2025 in 24 total lifts. Rasters are provided at 1 foot grid size.
The Basis for this Survey is the North American Datum of 1983 (NAD83(2011)) constrained
to the California Spatial Reference Center (CSRC) Continuous Global Position System
(CGPS) stations using published CSRC NAD83(2011) 2025.00 epoch adjustment values
and the Geoid 18 Model. Results are shown in California Coordinate System 1983
(NAD83(2011) 2025.00 epoch) Zones 2 and 3, US Survey Feet and North American Vertical
Datum of 1988 (NAVD88) in U.S. Survey Feet based upon NAD83(2011) 2025.00 epoch
ellipsoid heights with the Geoid 18 model applied.
Please see the DWR QC Report and Guida Survey Reports for more information. DWR’s aerial mapping consultant, Guida has cleared this dataset to meet project requirements and project specifications under the direction of their California Licensed Land Surveyor.
The associated data are considered DWR enterprise GIS data, which meet all appropriate requirements of the DWR Spatial Data Standards, specifically the DWR Spatial Data Standard version 3.6, dated September 27, 2023.
DWR makes no warranties or guarantees — either expressed or implied — as to the completeness, accuracy, or correctness of the data. DWR neither accepts nor assumes liability arising from or for any incorrect, incomplete, or misleading subject data. Contact: GIS@water.ca.gov
Single Fused Map Cache: false
Extent:
XMin: 6370740.0
YMin: 1763907.0
XMax: 6742740.0
YMax: 2049907.0
Spatial Reference: 103004
(6418)
LatestVCSWkid(0)
Initial Extent:
XMin: 6370740.0
YMin: 1763907.0
XMax: 6742740.0
YMax: 2049907.0
Spatial Reference: 103004
(6418)
LatestVCSWkid(0)
Full Extent:
XMin: 6370740.0
YMin: 1763907.0
XMax: 6742740.0
YMax: 2049907.0
Spatial Reference: 103004
(6418)
LatestVCSWkid(0)
Pixel Size X: 1.0
Pixel Size Y: 1.0
Band Count: 1
Pixel Type: F32
RasterFunction Infos: {"rasterFunctionInfos": [{
"name": "None",
"description": "",
"help": ""
}]}
Mensuration Capabilities: None
Inspection Capabilities:
Has Histograms: true
Has Colormap: false
Has Multi Dimensions : false
Rendering Rule:
Min Scale: 0
Max Scale: 0
Resampling: false
Copyright Text: DWR, SFEI, DSC, Guida & NV5
Service Data Type: esriImageServiceDataTypeGeneric
Min Values: -24.866664607077837
Max Values: 1158.2097832746804
Mean Values: 14.974377686568785
Standard Deviation Values: 12.0737013584858
Object ID Field: OBJECTID
Fields:
-
OBJECTID
(
type: esriFieldTypeOID, alias: OBJECTID
)
-
Shape
(
type: esriFieldTypeGeometry, alias: Shape
)
-
Name
(
type: esriFieldTypeString, alias: Name, length: 200
)
-
MinPS
(
type: esriFieldTypeDouble, alias: MinPS
)
-
MaxPS
(
type: esriFieldTypeDouble, alias: MaxPS
)
-
LowPS
(
type: esriFieldTypeDouble, alias: LowPS
)
-
HighPS
(
type: esriFieldTypeDouble, alias: HighPS
)
-
Category
(
type: esriFieldTypeInteger, alias: Category
, Coded Values:
[0: Unknown]
, [1: Primary]
, [2: Overview]
, ...6 more...
)
-
Tag
(
type: esriFieldTypeString, alias: Tag, length: 100
)
-
GroupName
(
type: esriFieldTypeString, alias: GroupName, length: 100
)
-
ProductName
(
type: esriFieldTypeString, alias: ProductName, length: 100
)
-
CenterX
(
type: esriFieldTypeDouble, alias: CenterX
)
-
CenterY
(
type: esriFieldTypeDouble, alias: CenterY
)
-
ZOrder
(
type: esriFieldTypeInteger, alias: ZOrder
)
-
Shape_Length
(
type: esriFieldTypeDouble, alias: Shape_Length
)
-
Shape_Area
(
type: esriFieldTypeDouble, alias: Shape_Area
)
Default Mosaic Method: Northwest
Allowed Mosaic Methods: NorthWest,Center,LockRaster,ByAttribute,Nadir,Viewpoint,Seamline,None
SortField:
SortValue: null
Mosaic Operator: First
Default Compression Quality: 75
Default Resampling Method: Bilinear
Max Record Count: 1000
Max Image Height: 4100
Max Image Width: 15000
Max Download Image Count: 20
Max Mosaic Image Count: 20
Allow Raster Function: true
Allow Copy: true
Allow Analysis: true
Allow Compute TiePoints: false
Supports Statistics: true
Supports Advanced Queries: true
Use StandardizedQueries: true
Raster Type Infos:
Name: Raster Dataset
Description: Supports all ArcGIS Raster Datasets
Help:
Has Raster Attribute Table: false
Edit Fields Info: null
Ownership Based AccessControl For Rasters: null
Child Resources:
Info
Histograms
Statistics
Key Properties
Legend
Raster Function Infos
Supported Operations:
Export Image
Query
Identify
Compute Histograms
Compute Statistics Histograms
Get Samples
Compute Class Statistics
Query GPS Info
Find Images
Image to Map
Map to Image
Measure from Image
Image to Map Multiray
Query Boundary
Compute Pixel Location
Compute Angles
Validate
Project