View In:
ArcGIS JavaScript
ArcGIS Online Map Viewer
ArcGIS Earth
Service Description: Product: This data set is comprised of a mosaic of 0.5-meter bare-earth digital elevation models (DEMs) in ERDAS IMG formatt.
Geographic Extent: Approximately 1,312 square miles across several counties in central California.
Important: This is a replacement of the original image service posted to DWR's public-facing image server from the version posted in 9/2019. The original version was posted incorrectly, namely that it was posted by creating a service from a raster mosaic dataset with the datum defined as plain NAD83, but the source tiles were from files with a stamped datum of NAD83/NSRS 2007. The result was a slight horizontal shift that produces issues with project-on-the-fly capable software. This service was created using a raster mosaic dataset sourced from tiles that are all stamped as plain NAD83. The tiles were actually restamped from the original USGS deliverable - defined as NAD83/NSRS2007, under guidance from DWR land surveyors about issues when doing so, and whose guidance is to always use the basic NAD83 datum as the stamp. Questions about this may be directed to the supervising land surveyor of DWR's Division of Engineering, Geodetic Branch.
As such, this service was republished as above on March 10, 2020, by DWR Division of Engineering. Rest of original service metadata follows (including original NAD83/NSRS2007 references).
Dataset description: The CA Sacramento Delta LiDAR 2017 D16 LiDAR project called for the planning, acquisition, processing, and production of derivative products of LiDAR data to be collected at a nominal pulse spacing (NPS) of 0.35 meters. Project specifications were based on the U.S. Geological Survey National Geospatial Program LiDAR Base Specification, Version 1.2. The data was developed based on a horizontal datum/projection of NAD83 (NSRS2007) UTM Zone 10 (EPSG 3717) meters, and a vertical datum of NAVD88 (GEOID12B), US survey feet. LiDAR data was delivered as processed classified LAS 1.4 files formatted to 1,706 individual 1,500-meter x 1,500-meter tiles. Other LiDAR products include tiled intensity imagery, tiled bare-earth DEMs, and tiled first return DSMs, all tiled to the same tiling schema.
This version of the data is referenced to the 2017 epoch, which is different from the USGS version that is referenced to the 2011 epoch.
Ground Conditions: LiDAR was collected from December 9, 2017 through January 21, 2018 by Woolpert, while no snow was on the ground and rivers were at or below normal levels. Saturated or partially flooded farm fields were identified following data acquisition. Through technical guidance discussions with USGS and the California Department of Water, it was determined such areas shall not be considered hydrologic features. Intermittently, partially flooded, irregular, and apparently non-agricultural fields were treated as hydrologic features. In all cases, best professional judgement was used in determination of treatment. In order to post process the LiDAR data to meet task order specifications and meet ASPRS vertical accuracy guidelines, Woolpert established 35 ground control points that were used to calibrate the lidar to known ground locations established throughout the project area. An additional 143 independent accuracy checkpoints (75 NVA points and 68 VVA points), were collected and used to assess the vertical accuracy of the data. These checkpoints were not used to calibrate or post process the data.
This data set was collected and produced by Woolpert for purposes of and under contract to USGS. Data are considered public domain.
DWR makes no warranties or guarantees — either expressed or implied — as to the completeness, accuracy, or correctness of the data. DWR neither accepts nor assumes liability arising from or for any incorrect, incomplete, or misleading subject data. This is an official DWR Image Service, published on March 10, 2020 by Joel Dudas of the Division of Engineering, Geodetic Branch, Geospatial Data Support Section, who may be contacted at joel.dudas@water.ca.gov, or 916-651-7002.
Name: elevation/SacDelta_Lidar_201712
Description: Product: This data set is comprised of a mosaic of 0.5-meter bare-earth digital elevation models (DEMs) in ERDAS IMG formatt.
Geographic Extent: Approximately 1,312 square miles across several counties in central California.
Important: This is a replacement of the original image service posted to DWR's public-facing image server from the version posted in 9/2019. The original version was posted incorrectly, namely that it was posted by creating a service from a raster mosaic dataset with the datum defined as plain NAD83, but the source tiles were from files with a stamped datum of NAD83/NSRS 2007. The result was a slight horizontal shift that produces issues with project-on-the-fly capable software. This service was created using a raster mosaic dataset sourced from tiles that are all stamped as plain NAD83. The tiles were actually restamped from the original USGS deliverable - defined as NAD83/NSRS2007, under guidance from DWR land surveyors about issues when doing so, and whose guidance is to always use the basic NAD83 datum as the stamp. Questions about this may be directed to the supervising land surveyor of DWR's Division of Engineering, Geodetic Branch.
As such, this service was republished as above on March 10, 2020, by DWR Division of Engineering. Rest of original service metadata follows (including original NAD83/NSRS2007 references).
Dataset description: The CA Sacramento Delta LiDAR 2017 D16 LiDAR project called for the planning, acquisition, processing, and production of derivative products of LiDAR data to be collected at a nominal pulse spacing (NPS) of 0.35 meters. Project specifications were based on the U.S. Geological Survey National Geospatial Program LiDAR Base Specification, Version 1.2. The data was developed based on a horizontal datum/projection of NAD83 (NSRS2007) UTM Zone 10 (EPSG 3717) meters, and a vertical datum of NAVD88 (GEOID12B), US survey feet. LiDAR data was delivered as processed classified LAS 1.4 files formatted to 1,706 individual 1,500-meter x 1,500-meter tiles. Other LiDAR products include tiled intensity imagery, tiled bare-earth DEMs, and tiled first return DSMs, all tiled to the same tiling schema.
This version of the data is referenced to the 2017 epoch, which is different from the USGS version that is referenced to the 2011 epoch.
Ground Conditions: LiDAR was collected from December 9, 2017 through January 21, 2018 by Woolpert, while no snow was on the ground and rivers were at or below normal levels. Saturated or partially flooded farm fields were identified following data acquisition. Through technical guidance discussions with USGS and the California Department of Water, it was determined such areas shall not be considered hydrologic features. Intermittently, partially flooded, irregular, and apparently non-agricultural fields were treated as hydrologic features. In all cases, best professional judgement was used in determination of treatment. In order to post process the LiDAR data to meet task order specifications and meet ASPRS vertical accuracy guidelines, Woolpert established 35 ground control points that were used to calibrate the lidar to known ground locations established throughout the project area. An additional 143 independent accuracy checkpoints (75 NVA points and 68 VVA points), were collected and used to assess the vertical accuracy of the data. These checkpoints were not used to calibrate or post process the data.
This data set was collected and produced by Woolpert for purposes of and under contract to USGS. Data are considered public domain.
DWR makes no warranties or guarantees — either expressed or implied — as to the completeness, accuracy, or correctness of the data. DWR neither accepts nor assumes liability arising from or for any incorrect, incomplete, or misleading subject data. This is an official DWR Image Service, published on March 10, 2020 by Joel Dudas of the Division of Engineering, Geodetic Branch, Geospatial Data Support Section, who may be contacted at joel.dudas@water.ca.gov, or 916-651-7002.
Single Fused Map Cache: false
Extent:
XMin: 574992.0
YMin: 4165441.0
XMax: 659056.5
YMax: 4272304.0
Spatial Reference: 26910
(26910)
LatestVCSWkid(0)
Initial Extent:
XMin: 574992.0
YMin: 4165441.0
XMax: 659056.5
YMax: 4272304.0
Spatial Reference: 26910
(26910)
LatestVCSWkid(0)
Full Extent:
XMin: 574992.0
YMin: 4165441.0
XMax: 659056.5
YMax: 4272304.0
Spatial Reference: 26910
(26910)
LatestVCSWkid(0)
Pixel Size X: 0.5
Pixel Size Y: 0.5
Band Count: 1
Pixel Type: F32
RasterFunction Infos: {"rasterFunctionInfos": [{
"name": "None",
"description": "A No-Op Function.",
"help": ""
}]}
Mensuration Capabilities: None
Inspection Capabilities:
Has Histograms: true
Has Colormap: false
Has Multi Dimensions : false
Rendering Rule:
Min Scale: 0
Max Scale: 0
Copyright Text: California DWR, USGS, Woolpert
Service Data Type: esriImageServiceDataTypeGeneric
Min Values: -25.350000381469727
Max Values: 1160.6199951171875
Mean Values: 14.392949925027612
Standard Deviation Values: 45.058362439755214
Object ID Field: OBJECTID
Fields:
-
OBJECTID
(
type: esriFieldTypeOID, alias: OBJECTID
)
-
Shape
(
type: esriFieldTypeGeometry, alias: Shape
)
-
Name
(
type: esriFieldTypeString, alias: Name, length: 200
)
-
MinPS
(
type: esriFieldTypeDouble, alias: MinPS
)
-
MaxPS
(
type: esriFieldTypeDouble, alias: MaxPS
)
-
LowPS
(
type: esriFieldTypeDouble, alias: LowPS
)
-
HighPS
(
type: esriFieldTypeDouble, alias: HighPS
)
-
Category
(
type: esriFieldTypeInteger, alias: Category
, Coded Values:
[0: Unknown]
, [1: Primary]
, [2: Overview]
, ...6 more...
)
-
Tag
(
type: esriFieldTypeString, alias: Tag, length: 100
)
-
GroupName
(
type: esriFieldTypeString, alias: GroupName, length: 100
)
-
ProductName
(
type: esriFieldTypeString, alias: ProductName, length: 100
)
-
CenterX
(
type: esriFieldTypeDouble, alias: CenterX
)
-
CenterY
(
type: esriFieldTypeDouble, alias: CenterY
)
-
ZOrder
(
type: esriFieldTypeInteger, alias: ZOrder
)
-
Shape_Length
(
type: esriFieldTypeDouble, alias: Shape_Length
)
-
Shape_Area
(
type: esriFieldTypeDouble, alias: Shape_Area
)
Default Mosaic Method: Northwest
Allowed Mosaic Methods: NorthWest,Center,LockRaster,ByAttribute,Nadir,Viewpoint,Seamline,None
SortField:
SortValue: null
Mosaic Operator: First
Default Compression Quality: 75
Default Resampling Method: Bilinear
Max Record Count: 1000
Max Image Height: 4100
Max Image Width: 15000
Max Download Image Count: 20
Max Mosaic Image Count: 20
Allow Raster Function: true
Allow Copy: true
Allow Analysis: true
Allow Compute TiePoints: false
Supports Statistics: true
Supports Advanced Queries: true
Use StandardizedQueries: true
Raster Type Infos:
Name: Raster Dataset
Description: Supports all ArcGIS Raster Datasets
Help:
Has Raster Attribute Table: false
Edit Fields Info: null
Ownership Based AccessControl For Rasters: null
Child Resources:
Info
Histograms
Statistics
Key Properties
Legend
Raster Function Infos
Supported Operations:
Export Image
Query
Identify
Compute Histograms
Compute Statistics Histograms
Get Samples
Compute Class Statistics
Query GPS Info
Find Images
Image to Map
Map to Image
Measure from Image
Image to Map Multiray
Query Boundary
Compute Pixel Location
Compute Angles
Validate
Project