View In:
ArcGIS JavaScript
ArcGIS Online Map Viewer
ArcGIS Earth
Service Description: This data set was collected and produced by Towill, Inc. under contract with to the California Department of Water Resources (DWR). Data are considered public domain.
Field Survey Operations
Field Equipment
Ground control for the aerial imagery was supplied through onboard ABGPS systems and tied to numerous CORS stations operating near the study area.
Horizontal and Vertical Control Surveys
Primary Control
Survey Control is based on ABGPS and CORS stations. Please see Survey Report dated January 18, 2019 for information regarding specific CORS stations used for georeferencing the orthophotography.
Horizontal Coordinate Datum
The horizontal datum is the National Geodetic Survey (NGS) Continuous Operating Reference Station (CORS) North American Datum of 1983 (NAD 83) California Coordinate System (CCS83) Epoch 2010.0 (2011 realization), Zone 2, US Survey Feet.
Vertical Datum Elevations established in this survey are North American Vertical Datum of 1988 (NAVD88).
Airborne LiDAR
The airborne LiDAR mission was performed over a two-day period; September 13-14, 2018. The sensor used to collect the data is a Teladyne/Optech Orion 300 and the laser was set to emit 8 points per square meter (8 PPM^2). The LiDAR strips were processed and calibrated using Optech’s LMS software suite and data from the CORS stations identified in the Survey Report dated January 18, 2019. The LiDAR dataset was classified to separate ground from non-ground features using the following classes:
Class 2 = Ground
Class 8 = Key point
Class 9 = Water
Additionally, hydro-break-lines were digitized from intensity images and used to separate ground from large water features (streams wider than 100 feet and ponds larger than twenty five acres). The derived bare-earth surfaces were formatted in both TIN and DEM formats.
DWR makes no warranties or guarantees — either expressed or implied — as to the completeness, accuracy, or correctness of the data. DWR neither accepts nor assumes liability arising from or for any incorrect, incomplete, or misleading subject data. This is an official DWR Image Service, republished on March 25, 2019 by Stephanie Baker of the Division of Engineering, Geodetic Branch, Geospatial Data Support Section, who may be contacted at stephanie.baker@water.ca.gov, or 916-653-9815.
Name: elevation/SuisunMarsh_2018
Description: This data set was collected and produced by Towill, Inc. under contract with to the California Department of Water Resources (DWR). Data are considered public domain.
Field Survey Operations
Field Equipment
Ground control for the aerial imagery was supplied through onboard ABGPS systems and tied to numerous CORS stations operating near the study area.
Horizontal and Vertical Control Surveys
Primary Control
Survey Control is based on ABGPS and CORS stations. Please see Survey Report dated January 18, 2019 for information regarding specific CORS stations used for georeferencing the orthophotography.
Horizontal Coordinate Datum
The horizontal datum is the National Geodetic Survey (NGS) Continuous Operating Reference Station (CORS) North American Datum of 1983 (NAD 83) California Coordinate System (CCS83) Epoch 2010.0 (2011 realization), Zone 2, US Survey Feet.
Vertical Datum Elevations established in this survey are North American Vertical Datum of 1988 (NAVD88).
Airborne LiDAR
The airborne LiDAR mission was performed over a two-day period; September 13-14, 2018. The sensor used to collect the data is a Teladyne/Optech Orion 300 and the laser was set to emit 8 points per square meter (8 PPM^2). The LiDAR strips were processed and calibrated using Optech’s LMS software suite and data from the CORS stations identified in the Survey Report dated January 18, 2019. The LiDAR dataset was classified to separate ground from non-ground features using the following classes:
Class 2 = Ground
Class 8 = Key point
Class 9 = Water
Additionally, hydro-break-lines were digitized from intensity images and used to separate ground from large water features (streams wider than 100 feet and ponds larger than twenty five acres). The derived bare-earth surfaces were formatted in both TIN and DEM formats.
DWR makes no warranties or guarantees — either expressed or implied — as to the completeness, accuracy, or correctness of the data. DWR neither accepts nor assumes liability arising from or for any incorrect, incomplete, or misleading subject data. This is an official DWR Image Service, republished on March 25, 2019 by Stephanie Baker of the Division of Engineering, Geodetic Branch, Geospatial Data Support Section, who may be contacted at stephanie.baker@water.ca.gov, or 916-653-9815.
Single Fused Map Cache: false
Extent:
XMin: 6510000.0
YMin: 1766000.0
XMax: 6610000.0
YMax: 1856000.0
Spatial Reference: 102642
(2226)
LatestVCSWkid(0)
Initial Extent:
XMin: 6510000.0
YMin: 1766000.0
XMax: 6610000.0
YMax: 1856000.0
Spatial Reference: 102642
(2226)
LatestVCSWkid(0)
Full Extent:
XMin: 6510000.0
YMin: 1766000.0
XMax: 6610000.0
YMax: 1856000.0
Spatial Reference: 102642
(2226)
LatestVCSWkid(0)
Pixel Size X: 1.0
Pixel Size Y: 1.0
Band Count: 1
Pixel Type: F32
RasterFunction Infos: {"rasterFunctionInfos": [{
"name": "None",
"description": "",
"help": ""
}]}
Mensuration Capabilities: Basic
Inspection Capabilities:
Has Histograms: true
Has Colormap: false
Has Multi Dimensions : false
Rendering Rule:
Min Scale: 0
Max Scale: 0
Copyright Text: DWR Division of Engineering Geodetic Branch
Service Data Type: esriImageServiceDataTypeGeneric
Min Values: -2.890000104904175
Max Values: 1160.468505859375
Mean Values: 41.805296749864986
Standard Deviation Values: 117.1462174403928
Object ID Field: OBJECTID
Fields:
-
OBJECTID
(
type: esriFieldTypeOID, alias: OBJECTID
)
-
Shape
(
type: esriFieldTypeGeometry, alias: Shape
)
-
Name
(
type: esriFieldTypeString, alias: Name, length: 200
)
-
MinPS
(
type: esriFieldTypeDouble, alias: MinPS
)
-
MaxPS
(
type: esriFieldTypeDouble, alias: MaxPS
)
-
LowPS
(
type: esriFieldTypeDouble, alias: LowPS
)
-
HighPS
(
type: esriFieldTypeDouble, alias: HighPS
)
-
Category
(
type: esriFieldTypeInteger, alias: Category
, Coded Values:
[0: Unknown]
, [1: Primary]
, [2: Overview]
, ...6 more...
)
-
Tag
(
type: esriFieldTypeString, alias: Tag, length: 100
)
-
GroupName
(
type: esriFieldTypeString, alias: GroupName, length: 100
)
-
ProductName
(
type: esriFieldTypeString, alias: ProductName, length: 100
)
-
CenterX
(
type: esriFieldTypeDouble, alias: CenterX
)
-
CenterY
(
type: esriFieldTypeDouble, alias: CenterY
)
-
ZOrder
(
type: esriFieldTypeInteger, alias: ZOrder
)
-
Shape_Length
(
type: esriFieldTypeDouble, alias: Shape_Length
)
-
Shape_Area
(
type: esriFieldTypeDouble, alias: Shape_Area
)
Default Mosaic Method: Northwest
Allowed Mosaic Methods: NorthWest,Center,LockRaster,ByAttribute,Nadir,Viewpoint,Seamline,None
SortField:
SortValue: null
Mosaic Operator: First
Default Compression Quality: 75
Default Resampling Method: Bilinear
Max Record Count: 1000
Max Image Height: 4100
Max Image Width: 15000
Max Download Image Count: 20
Max Mosaic Image Count: 20
Allow Raster Function: true
Allow Copy: true
Allow Analysis: true
Allow Compute TiePoints: false
Supports Statistics: true
Supports Advanced Queries: true
Use StandardizedQueries: true
Raster Type Infos:
Name: Raster Dataset
Description: Supports all ArcGIS Raster Datasets
Help:
Has Raster Attribute Table: false
Edit Fields Info: null
Ownership Based AccessControl For Rasters: null
Child Resources:
Info
Histograms
Statistics
Key Properties
Legend
Raster Function Infos
Supported Operations:
Export Image
Query
Identify
Measure
Compute Histograms
Compute Statistics Histograms
Get Samples
Compute Class Statistics
Query GPS Info
Find Images
Image to Map
Map to Image
Measure from Image
Image to Map Multiray
Query Boundary
Compute Pixel Location
Compute Angles
Validate
Project